Workbook
Name 第34_環境衛生.食品: #REF!
Name 第52_不妊手術: #REF!
Name 第53_人工妊娠中絶: #REF!
Name 貼付表: "ピクチャ 73"
Name 表: #REF!
Name 表５の１８ＥＸ: #REF!

Sheet 24-1
A1: 表２４－１ 障害者医療費助成対象者
D2: （各年度末 単位：人）
A3: 年度・区分 | C3: 対象者 | D3: 年間平均
A4: 2015 | C4: 29246 | D4: 29247
A5: 2016 | C5: 29814 | D5: 29591
A6: 2017 | C6: 30401 | D6: 30164
A7: 2018 | C7: 31116 | D7: 30830
A8: 2019 | C8: 31942 | D8: 31537
A9: 2020 | C9: 32854 | D9: 32383
A10: 2021 | C10: 34210 | D10: 33489
A11: 2022 | C11: 35578 | D11: 34855
A12: 2023 | C12: 36743 | D12: 36142
A13: 2024 | C13: 38171 | D13: 37454
A14: 2025 | C14: 39816 | D14: 38991
A15: 加入保険別 | B15: 市国保(一般) | C15: 19324
B16: 市国保(退職) | C16: -
B17: 国保組合 | C17: 604
B18: 協会けんぽ | C18: 10568
B19: 組合健保 | C19: 7492
B20: 日雇特例 | C20: 0
B21: 船員保険 | C21: 6
B22: 共済組合 | C22: 1822
A23: 区別 | B23: 総計 | C23: 39816
B24: 千種 | C24: 2552
B25: 東 | C25: 1189
B26: 北 | C26: 3158
B27: 西 | C27: 2614
B28: 中村 | C28: 2262
B29: 中 | C29: 1319
B30: 昭和 | C30: 1576
B31: 瑞穂 | C31: 1660
B32: 熱田 | C32: 1151
B33: 中川 | C33: 4073
B34: 港 | C34: 2932
B35: 南 | C35: 2521
... B39: 天白 | C39: 2842

Sheet 24-2
A1: 表２４－２ 障害者医療費助成
A2: 年度・区分 | B2: 件数 | C2: 医療費総額（円） | D2: 助成額（円）
A3: 2015 | B3: 850843 | C3: 41425539003 | D3: 5976074064
A4: 2016 | B4: 881783 | C4: 41328333071 | D4: 5894599077
A5: 2017 | B5: 913192 | C5: 42357298383 | D5: 5843740639
A6: 2018 | B6: 947562 | C6: 42980252642 | D6: 5978207990
A7: 2019 | B7: 983908 | C7: 43954709588 | D7: 6131405910
A8: 2020 | B8: 961624 | C8: 43304608334 | D8: 5992077854
A9: 2021 | B9: 1047179 | C9: 45242413077 | D9: 6410996779
A10: 2022 | B10: 1129007 | C10: 46648373512 | D10: 6720096920
A11: 2023 | B11: 1231883 | C11: 49285665747 | D11: 7167273327
A12: 2024 | B12: 1314796 | C12: 52601851176 | D12: 7446033693
A13: 2025 | B13: 1402071 | C13: 53359880160 | D13: 7633579474
A14: 国民健康保険 | B14: 718135 | C14: 29684201243 | D14: 3510563587
A15: 健康保険等 | B15: 663193 | C15: 22223077349 | D15: 3990240895
A16: 区払分 | B16: 20743 | C16: 1452601568 | D16: 132774992
A17: 医科（入院） | B17: 26101 | C17: 15353070230 | D17: 816157452
A18: 医科（入院外） | B18: 676389 | C18: 19480757280 | D18: 2931526878
A19: 歯科 | B19: 130571 | C19: 1964846900 | D19: 580989266
A20: 薬剤 | B20: 473695 | C20: 9900915590 | D20: 2038311185
A21: 訪問看護 | B21: 48677 | C21: 4646542360 | D21: 966356422
A22: 柔道整復 | B22: 11057 | C22: 89329394 | D22: 26700152
A23: 鍼灸 | B23: 14838 | C23: 471816838 | D23: 140763127
A24: 区払分 | B24: 20743 | C24: 1452601568 | D24: 132774992

Sheet 24-3
A1: 表２４－３ 障害者医療費関係諸率
A2: 年度 | B2: 受診率 | C2: １件当り医療費 | D2: １人当り医療費 | E2: １人当り助成額
B3: ％ | C3: 円 | D3: 円 | E3: 円
A4: 2015 | B4: 2909 | C4: 48688 | D4: 1416403 | E4: 204331
A5: 2016 | B5: 2980 | C5: 46869 | D5: 1396652 | E5: 199202
A6: 2017 | B6: 3027 | C6: 46384 | D6: 1404233 | E6: 193732
A7: 2018 | B7: 3074 | C7: 45359 | D7: 1394105 | E7: 193909
A8: 2019 | B8: 3120 | C8: 44674 | D8: 1393751 | E8: 194419
A9: 2020 | B9: 2970 | C9: 45033 | D9: 1337264 | E9: 185038
A10: 2021 | B10: 3127 | C10: 43204 | D10: 1350963 | E10: 191436
A11: 2022 | B11: 3239.15 | C11: 41318 | D11: 1338355 | E11: 192802
A12: 2023 | B12: 3408.45 | C12: 40008 | D12: 1363667 | E12: 198309
A13: 2024 | B13: 3510.43 | C13: 40008 | D13: 1404439 | E13: 198805
A14: 2025 | B14: 3595.88 | C14: 38058 | D14: 1368518 | E14: 195778

Sheet 24-4
A1: 表２４－４ 障害者歯科保健医療センター（名古屋市歯科医師会）
A3: 年度 | D3: 2015年度 | E3: 2016年度 | F3: 2017年度 | G3: 2018年度 | H3: 2019年度 | I3: 2020年度 | J3: 2021年度 | K3: 2022年度 | L3: 2023年度 | M3: 2024年度 | N3: 2025年度
D4: 日 | E4: 日 | F4: 日 | G4: 日 | H4: 日 | I4: 日 | J4: 日 | K4: 日 | L4: 日 | M4: 日 | N4: 日
A5: 診療日数 | D5: 427 | E5: 484 | F5: 489 | G5: 491 | H5: 487 | I5: 485 | J5: 489 | K5: 487 | L5: 489 | M5: 495 | N5: 493
D6: 人 | E6: 人 | F6: 人 | G6: 人 | H6: 人 | I6: 人 | J6: 人 | K6: 人 | L6: 人 | M6: 人 | N6: 人
A7: １日平均受診者 | D7: 17 | E7: 20 | F7: 20 | G7: 20 | H7: 22 | I7: 19 | J7: 20.627812 | K7: 21.13347 | L7: 22 | M7: 22 | N7: 23.1
A8: 区分 | B8: 新患 | D8: 194 | E8: 194 | F8: 209 | G8: 249 | H8: 242 | I8: 189 | J8: 217 | K8: 204 | L8: 230 | M8: 193 | N8: 179
B9: 再来 | D9: 7228 | E9: 9268 | F9: 9509 | G9: 9577 | H9: 10312 | I9: 8817 | J9: 9870 | K9: 10088 | L9: 10547 | M9: 10680 | N9: 11195
A10: 年齢別 | B10: ６歳未満 | D10: 77 | E10: 158 | F10: 196 | G10: 155 | H10: 234 | I10: 214 | J10: 160 | K10: 234 | L10: 231 | M10: 193 | N10: 167
B11: ６～１５歳 | D11: 979 | E11: 1302 | F11: 1304 | G11: 1418 | H11: 1610 | I11: 1506 | J11: 1856 | K11: 1808 | L11: 1933 | M11: 2205 | N11: 2345
B12: １６～６４歳 | D12: 6108 | E12: 7504 | F12: 7649 | G12: 7702 | H12: 8103 | I12: 6786 | J12: 7517 | K12: 7687 | L12: 8079 | M12: 7990 | N12: 8304
B13: ６５歳以上 | D13: 258 | E13: 498 | F13: 569 | G13: 551 | H13: 607 | I13: 500 | J13: 554 | K13: 563 | L13: 534 | M13: 485 | N13: 558
A14: 新患の障害別 | B14: 身障１級 | D14: 51 | E14: 53 | F14: 48 | G14: 47 | H14: 50 | I14: 27 | J14: 32 | K14: 31 | L14: 40 | M14: 27 | N14: 27
B15: 身障２級 | D15: 22 | E15: 25 | F15: 21 | G15: 27 | H15: 19 | I15: 18 | J15: 11 | K15: 14 | L15: 15 | M15: 12 | N15: 18
B16: 身障３級 | D16: 15 | E16: 15 | F16: 15 | G16: 16 | H16: 12 | I16: 10 | J16: 10 | K16: 5 | L16: 16 | M16: 12 | N16: 9
B17: 知的 障害 | C17: 重度 | D17: 40 | E17: 34 | F17: 50 | G17: 65 | H17: 56 | I17: 43 | J17: 58 | K17: 54 | L17: 59 | M17: 60 | N17: 41
C18: 中度 | D18: 12 | E18: 13 | F18: 13 | G18: 26 | H18: 15 | I18: 17 | J18: 12 | K18: 15 | L18: 11 | M18: 15 | N18: 8
C19: 軽度 | D19: 11 | E19: 12 | F19: 17 | G19: 21 | H19: 20 | I19: 18 | J19: 21 | K19: 14 | L19: 20 | M19: 13 | N19: 6
B20: 自 閉 | D20: 43 | E20: 42 | F20: 45 | G20: 47 | H20: 70 | I20: 56 | J20: 73 | K20: 71 | L20: 70 | M20: 54 | N20: 70
A21: 注)北・南の２ヵ所で診察。

Sheet 24-5
A1: 表２４－５ 子ども医療費助成対象者
I2: （各年度末 単位：人）
A3: 年度・区分 | D3: 総計 | E3: 乳幼児 | F3: 小学生 | G3: 中学生 | H3: 高校生世代 | I3: 年間平均
A4: 2015 | D4: 285471 | E4: 130503 | F4: 104086 | G4: 50882 | I4: 278613
A5: 2016 | D5: 284766 | E5: 130301 | F5: 104247 | G5: 50218 | I5: 277592
A6: 2017 | D6: 283776 | E6: 129165 | F6: 104644 | G6: 49967 | I6: 277001
A7: 2018 | D7: 282476 | E7: 127968 | F7: 105090 | G7: 49418 | I7: 275921
A8: 2019 | D8: 282430 | E8: 126317 | F8: 105388 | G8: 49827 | H8: 898 | I8: 274706
A9: 2020 | D9: 280635 | E9: 123753 | F9: 104946 | G9: 50257 | H9: 1679 | I9: 274296
A10: 2021 | D10: 322738 | E10: 121014 | F10: 104390 | G10: 51116 | H10: 46218 | I10: 279227.17
A11: 2022 | D11: =SUM(E11:H11) -> 321781 | E11: 117401 | F11: 104221 | G11: 51362 | H11: 48797 | I11: 315271.33
A12: 2023 | D12: 318381 | E12: 113515 | F12: 103415 | G12: 51651 | H12: 49800 | I12: 312607
A13: 2024 | D13: =SUM(E13:H13) -> 314542 | E13: 109272 | F13: 102919 | G13: 51356 | H13: 50995 | I13: 309158
A14: 2025 | D14: 310792 | E14: 105879 | F14: 102202 | G14: 51525 | H14: 51186 | I14: 304744
A15: 加入保険別 | B15: 市国保 | C15: 小計 | D15: =E15+F15+G15+H15 -> 21501 | E15: 6739 | F15: 6988 | G15: 3706 | H15: 4068
C16: 一般 | D16: =E16+F16+G16+H16 -> 21501 | E16: 6739 | F16: 6988 | G16: 3706 | H16: 4068
C17: 退職 | D17: =E17+F17+G17+H17 -> 0 | E17: 0 | F17: 0 | G17: 0 | H17: 0
B18: 国保組合 | D18: =E18+F18+G18+H18 -> 10308 | E18: 3152 | F18: 3309 | G18: 1888 | H18: 1959
B19: 協会けんぽ | D19: =E19+F19+G19+H19 -> 118993 | E19: 38456 | F19: 38958 | G19: 20663 | H19: 20916
B20: 組合健保 | D20: =E20+F20+G20+H20 -> 123252 | E20: 43866 | F20: 40691 | G20: 19599 | H20: 19096
B21: 日雇特例 | D21: =E21+F21+G21+H21 -> 0 | E21: 0 | F21: 0 | G21: 0 | H21: 0
B22: 船員保険 | D22: =E22+F22+G22+H22 -> 142 | E22: 53 | F22: 46 | G22: 24 | H22: 19
B23: 共済組合 | D23: =E23+F23+G23+H23 -> 36596 | E23: 13613 | F23: 12210 | G23: 5645 | H23: 5128
A24: 区別 | B24: 千種 | D24: =E24+F24+G24+H24 -> 21594 | E24: 6885 | F24: 7324 | G24: 3758 | H24: 3627
B25: 東 | D25: =E25+F25+G25+H25 -> 11885 | E25: 4398 | F25: 4014 | G25: 1842 | H25: 1631
B26: 北 | D26: =E26+F26+G26+H26 -> 18631 | E26: 6569 | F26: 5938 | G26: 2977 | H26: 3147
B27: 西 | D27: =E27+F27+G27+H27 -> 19108 | E27: 6700 | F27: 6256 | G27: 3085 | H27: 3067
B28: 中村 | D28: =E28+F28+G28+H28 -> 15219 | E28: 5827 | F28: 4605 | G28: 2396 | H28: 2391
B29: 中 | D29: =E29+F29+G29+H29 -> 7347 | E29: 3169 | F29: 2140 | G29: 983 | H29: 1055
B30: 昭和 | D30: =E30+F30+G30+H30 -> 15809 | E30: 5562 | F30: 5320 | G30: 2563 | H30: 2364
B31: 瑞穂 | D31: =E31+F31+G31+H31 -> 16239 | E31: 5501 | F31: 5669 | G31: 2637 | H31: 2432
B32: 熱田 | D32: =E32+F32+G32+H32 -> 7817 | E32: 2713 | F32: 2569 | G32: 1274 | H32: 1261
B33: 中川 | D33: =E33+F33+G33+H33 -> 27260 | E33: 9433 | F33: 8500 | G33: 4634 | H33: 4693
B34: 港 | D34: =E34+F34+G34+H34 -> 16176 | E34: 5323 | F34: 4991 | G34: 2824 | H34: 3038
B35: 南 | D35: =E35+F35+G35+H35 -> 15245 | E35: 5220 | F35: 4896 | G35: 2524 | H35: 2605
B36: 守山 | D36: =E36+F36+G36+H36 -> 28109 | E36: 9195 | F36: 9293 | G36: 4766 | H36: 4855
... B39: 天白 | D39: =E39+F39+G39+H39 -> 22730 | E39: 7510 | F39: 7667 | G39: 3758 | H39: 3795

Sheet 24-6
A1: 表２４－６ 子ども医療費助成
A2: 年度・区分 | B2: 件数 | C2: 医療費総額 | D2: 助成額
B3: 件 | C3: 円 | D3: 円
A4: 2015 | B4: 4597584 | C4: 47755305857 | D4: 10588915174
A5: 2016 | B5: 4663988 | C5: 48221048126 | D5: 10637231868
A6: 2017 | B6: 4664854 | C6: 48413747544 | D6: 10637189279
A7: 2018 | B7: 4737588 | C7: 49599780149 | D7: 10859758902
A8: 2019 | B8: 4724106 | C8: 50564941602 | D8: 11032758301
A9: 2020 | B9: 3626293 | C9: 41759518035 | D9: 9091931231
A10: 2021 | B10: 4193380 | C10: 49489133561 | D10: 10775203603
A11: 2022 | B11: 4881073 | C11: 58102554019 | D11: 12503354510
A12: 2023 | B12: 5635850 | C12: 63215399334 | D12: 14420282597
A13: 2024 | B13: 5555353 | C13: 60711762503 | D13: 14085938831
A14: 2025 | B14: 5398335 | C14: 61698240618 | D14: 13938305922
A15: 国民健康保険 | B15: 301471 | C15: 3651532365 | D15: 745325934
A16: 健康保険等 | B16: 5073687 | C16: 57386699000 | D16: 13074517615
A17: 区払分 | B17: 23177 | C17: 660009253 | D17: 118462373
A18: 医科（入院） | B18: 26643 | C18: 12746540302 | D18: 1568829650
A19: 医科（入院外） | B19: 2677820 | C19: 25918949640 | D19: 6515009319
A20: 歯科 | B20: 804540 | C20: 8994017950 | D20: 2451094695
A21: 薬剤 | B21: 1805738 | C21: 12231925550 | D21: 3002041337
A22: 訪問看護 | B22: 11013 | C22: 852093080 | D22: 194856570
A23: 柔道整復 | B23: 48742 | C23: 287179355 | D23: 85818058
A24: 鍼灸 | B24: 662 | C24: 7525488 | D24: 2193920
A25: 区払分 | B25: 23177 | C25: 660009253 | D25: 118462373

Sheet 24-7
A1: 表２４－７ 子ども医療費関係諸率
A2: 年度 | B2: 受診率 | C2: １件当り医療費 | D2: １人当り医療費 | E2: １人当り助成額
B3: ％ | C3: 円 | D3: 円 | E3: 円
A4: 2015 | B4: 1650 | C4: 10387 | D4: 171404 | E4: 38006
A5: 2016 | B5: 1680 | C5: 10339 | D5: 173712 | E5: 38320
A6: 2017 | B6: 1684 | C6: 10378 | D6: 174778 | E6: 38401
A7: 2018 | B7: 1717 | C7: 10469 | D7: 179761 | E7: 39358
A8: 2019 | B8: 1720 | C8: 10704 | D8: 184069 | E8: 40162
A9: 2020 | B9: 1322 | C9: 11516 | D9: 152243 | E9: 33146
A10: 2021 | B10: =(15.017808080995)*100 -> 1501.7808 | C10: 11802 | D10: 177236.1 | E10: 38589.381
A11: 2022 | B11: 1548.215 | C11: 11903.644 | D11: 184294 | E11: 39659.07
A12: 2023 | B12: 1802.8547 | C12: 11217 | D12: 202220.04 | E12: 46129.11
A13: 2024 | B13: 1796.93 | C13: 10928.516 | D13: 196377.78 | E13: 45562.265
A14: 2025 | B14: =('24-6'!B14/'24-5'!I14)*100 -> 1771.4327 | C14: ='24-6'!C14/'24-6'!B14 -> 11429.124 | D14: ='24-6'!C14/'24-5'!I14 -> 202459.25 | E14: ='24-6'!D14/'24-5'!I14 -> 45737.753

Sheet 24-8
A1: 表２４－８ ひとり親家庭等医療費助成対象者
H2: （各年度末単位：人）
A3: 年度・区分 | C3: 総計 | D3: 母子家庭 | F3: 父子家庭 | H3: 年間平均
D4: 母 | E4: 児童 | F4: 父 | G4: 児童
A5: 2015 | C5: 41059 | D5: 16780 | E5: 22634 | F5: 674 | G5: 971 | H5: 39028
A6: 2016 | C6: 40933 | D6: 16392 | E6: 22886 | F6: 666 | G6: 989 | H6: 39438
A7: 2017 | C7: 40265 | D7: 15981 | E7: 22764 | F7: 616 | G7: 904 | H7: 39021
A8: 2018 | C8: 39719 | D8: 15718 | E8: 22619 | F8: 565 | G8: 817 | H8: 38417
A9: 2019 | C9: 38459 | D9: 15134 | E9: 21998 | F9: 544 | G9: 783 | H9: 37604
A10: 2020 | C10: 37399 | D10: 14651 | E10: 21469 | F10: 516 | G10: 763 | H10: 36623
A11: 2021 | C11: 36407 | D11: 14294 | E11: 20873 | F11: 496 | G11: 744 | H11: 35712
A12: 2022 | C12: 35076 | D12: 13805 | E12: 20087 | F12: 471 | G12: 713 | H12: 34415
A13: 2023 | C13: 34280 | D13: 13468 | E13: 19670 | F13: 456 | G13: 686 | H13: 33400
A14: 2024 | C14: 33938 | D14: 13286 | E14: 19483 | F14: 465 | G14: 704 | H14: 32731
A15: 2025 | C15: 32539 | D15: 12718 | E15: 18699 | F15: 436 | G15: 686 | H15: 32108
A16: 加入保険別 | B16: 市国保(一般) | C16: 13257 | D16: 5047 | E16: 7683 | F16: 209 | G16: 318
B17: 市国保(退職) | C17: - | D17: - | E17: - | F17: - | G17: -
B18: 国保組合 | C18: 292 | D18: 120 | E18: 158 | F18: 6 | G18: 8
B19: 協会けんぽ | C19: 13890 | D19: 5495 | E19: 7925 | F19: 181 | G19: 289
B20: 組合健保 | C20: 4495 | D20: 1816 | E20: 2580 | F20: 37 | G20: 62
B21: 日雇特例 | C21: - | D21: - | E21: - | F21: - | G21: -
B22: 船員保険 | C22: 1 | D22: - | E22: 1 | F22: - | G22: -
B23: 共済組合 | C23: 604 | D23: 240 | E23: 352 | F23: 3 | G23: 9
A24: 区別 | B24: 千種 | C24: 1597 | D24: 646 | E24: 905 | F24: 19 | G24: 27
B25: 東 | C25: 1060 | D25: 431 | E25: 596 | F25: 12 | G25: 21
B26: 北 | C26: 2903 | D26: 1118 | E26: 1669 | F26: 43 | G26: 73
B27: 西 | C27: 1975 | D27: 783 | E27: 1114 | F27: 30 | G27: 48
B28: 中村 | C28: 1457 | D28: 577 | E28: 833 | F28: 19 | G28: 28
B29: 中 | C29: 1033 | D29: 453 | E29: 573 | F29: 3 | G29: 4
B30: 昭和 | C30: 888 | D30: 357 | E30: 493 | F30: 14 | G30: 24
B31: 瑞穂 | C31: 1065 | D31: 426 | E31: 604 | F31: 14 | G31: 21
B32: 熱田 | C32: 775 | D32: 311 | E32: 438 | F32: 11 | G32: 15
B33: 中川 | C33: 4225 | D33: 1613 | E33: 2466 | F33: 56 | G33: 90
B34: 港 | C34: 3143 | D34: 1168 | E34: 1815 | F34: 63 | G34: 97
B35: 南 | C35: 2130 | D35: 822 | E35: 1242 | F35: 24 | G35: 42
B36: 守山 | C36: 2770 | D36: 1054 | E36: 1608 | F36: 42 | G36: 66
... B39: 天白 | C39: 2020 | D39: 815 | E39: 1163 | F39: 16 | G39: 26
A40: 注)「母子家庭」の「児童」中には、「父母のない児童」を含む。

Sheet 24-9
A1: 表２４－９ ひとり親家庭等医療費助成
A2: 年度・区分 | B2: 件数 | C2: 医療費総額 | D2: 助成額
B3: 件 | C3: 円 | D3: 円
A4: 2015 | B4: 560865 | C4: 6278907888 | D4: 1655537694
A5: 2016 | B5: 572879 | C5: 6415036542 | D5: 1646701559
A6: 2017 | B6: 570753 | C6: 6261735537 | D6: 1608972805
A7: 2018 | B7: 577072 | C7: 6344868275 | D7: 1622249414
A8: 2019 | B8: 577096 | C8: 6382740198 | D8: 1643636022
A9: 2020 | B9: 488255 | C9: 5618000878 | D9: 1454532217
A10: 2021 | B10: 521587 | C10: 6156684688 | D10: 1563210788
A11: 2022 | B11: 530610 | C11: 6448808531 | D11: 1593320608
A12: 2023 | B12: 576550 | C12: 6747149708 | D12: 1706595882
A13: 2024 | B13: 569527 | C13: 6640374073 | D13: 1688913240
A14: 2025 | B14: 559336 | C14: 6659316943 | D14: 1652302353
A15: 国民健康保険 | B15: 220915 | C15: 2706509660 | D15: 620735428
A16: 健康保険等 | B16: 335599 | C16: 3907104858 | D16: 1020247372
A17: 区払分 | B17: 2822 | C17: 45702425 | D17: 11319553
A18: 医科（入院） | B18: 1839 | C18: 808410110 | D18: 81761131
A19: 医科（入院外） | B19: 277871 | C19: 2972610220 | D19: 793988508
A20: 歯科 | B20: 77339 | C20: 1044420940 | D20: 302464566 | AC20: 6278907888 | AM20: 1655537694
A21: 薬剤 | B21: 186880 | C21: 1632722590 | D21: 419801289
A22: 訪問看護 | B22: 1246 | C22: 78147180 | D22: 19817869
A23: 柔道整復 | B23: 10257 | C23: 65503228 | D23: 19609362
A24: 鍼灸 | B24: 1082 | C24: 11800250 | D24: 3540075
A25: 区払分 | B25: 2822 | C25: 45702425 | D25: 11319553

Sheet 24-10
A1: 表２４－１０ ひとり親家庭等医療費関係諸率
A2: 年度 | B2: 受診率 | C2: １件当り医療費 | D2: １人当り医療費 | E2: １人当り助成額
B3: ％ | C3: 円 | D3: 円 | E3: 円
A4: 2015 | B4: 1437 | C4: 11195 | D4: 160882 | E4: 42419
A5: 2016 | B5: 1453 | C5: 11198 | D5: 162661 | E5: 41754
A6: 2017 | B6: 1463 | C6: 10971 | D6: 160471 | E6: 41234
A7: 2018 | B7: 1502 | C7: 10995 | D7: 165158 | E7: 42227
A8: 2019 | B8: 1535 | C8: 11060 | D8: 169736 | E8: 43709
A9: 2020 | B9: 1333 | C9: 11506 | D9: 153401 | E9: 39716.359
A10: 2021 | B10: 1461 | C10: 11803.754 | D10: 172398 | E10: 43773
A11: 2022 | B11: 1541.8 | C11: 12153.575 | D11: 187384 | E11: 46297
A12: 2023 | B12: 1726.1976 | C12: 11702.627 | D12: 202010.47 | E12: 51095.685
A13: 2024 | B13: =('24-9'!B13/'24-8'!H14)*100 -> 1740.0232 | C13: ='24-9'!C13/'24-9'!B13 -> 11659.454 | D13: ='24-9'!C13/'24-8'!H14 -> 202877.21 | E13: ='24-9'!D13/'24-8'!H14 -> 51599.806
A14: 2025 | B14: =('24-9'!B14/'24-8'!H15)*100 -> 1742.0456 | C14: ='24-9'!C14/'24-9'!B14 -> 11905.754 | D14: ='24-9'!C14/'24-8'!H15 -> 207403.67 | E14: ='24-9'!D14/'24-8'!H15 -> 51460.768

Sheet 24-11
A1: 表２４－１１ 福祉給付金対象者
H2: （各年度末単位：人）
A3: 年度・区分 | C3: 総計 | D3: 県の制度 | F3: 市の制度 | H3: 年間平均
D4: 後期高齢 | E4: 前期高齢 | F4: 後期高齢 | G4: 前期高齢
A5: 2015 | C5: 52654 | D5: 43838 | E5: 0 | F5: 8102 | G5: 714 | H5: 52916
A6: 2016 | C6: 52740 | D6: 44084 | E6: 0 | F6: 7935 | G6: 721 | H6: 52831
A7: 2017 | C7: 53442 | D7: 44611 | E7: 0 | F7: 8071 | G7: 760 | H7: 53288
A8: 2018 | C8: 54200 | D8: 45087 | E8: 0 | F8: 8330 | G8: 783 | H8: 53921
A9: 2019 | C9: 54910 | D9: 45599 | E9: 0 | F9: 8467 | G9: 844 | H9: 54592
A10: 2020 | C10: 55146 | D10: 45856 | E10: 0 | F10: 8365 | G10: 925 | H10: 55255
A11: 2021 | C11: 55054 | D11: 45937 | E11: 0 | F11: 8131 | G11: 986 | H11: 55258
A12: 2022 | C12: 54972 | D12: 45946 | E12: 0 | F12: 8039 | G12: 987 | H12: 55360
A13: 2023 | C13: 56174 | D13: 46845 | E13: 0 | F13: 8400 | G13: 929 | H13: 55790
A14: 2024 | C14: 56411 | D14: 47081 | E14: 0 | F14: 8454 | G14: 876 | H14: 56608
A15: 2025 | C15: 57095 | D15: 47474 | F15: 8838 | G15: 783 | H15: 56895
A16: 対象範囲別 | B16: 障害者 | C16: 31053 | D16: 31053 | E16: 0 | F16: 0 | G16: 0 | H16: 31134
B17: 戦傷病者 | C17: 1 | D17: 1 | E17: 0 | F17: 0 | G17: 0 | H17: 2
B18: ひとり親家庭等 | C18: 11 | D18: 11 | E18: 0 | F18: 0 | G18: 0 | H18: 10
B19: 精神 | C19: 1 | D19: 1 | E19: 0 | F19: 0 | G19: 0 | H19: 0
B20: 結核 | C20: - | D20: - | E20: 0 | F20: 0 | G20: 0 | H20: 0
B21: ねたきり | C21: 9441 | D21: 5696 | E21: 0 | F21: 3317 | G21: 428 | H21: 9340
B22: 認知症 | C22: 16525 | D22: 10712 | E22: 0 | F22: 5458 | G22: 355 | H22: 16343
B23: 難病 | C23: 63 | D23: 0 | E23: 0 | F23: 63 | G23: 0 | H23: 66
A24: 区別 | B24: 千種 | C24: 3848 | D24: 3190 | E24: 0 | F24: 608 | G24: 50
B25: 東 | C25: 1767 | D25: 1478 | E25: 0 | F25: 259 | G25: 30
B26: 北 | C26: 4941 | D26: 4174 | E26: 0 | F26: 699 | G26: 68
B27: 西 | C27: 3381 | D27: 2770 | E27: 0 | F27: 573 | G27: 38
B28: 中村 | C28: 3417 | D28: 2832 | E28: 0 | F28: 539 | G28: 46
B29: 中 | C29: 1619 | D29: 1374 | E29: 0 | F29: 225 | G29: 20
B30: 昭和 | C30: 2252 | D30: 1808 | E30: 0 | F30: 410 | G30: 34
B31: 瑞穂 | C31: 2720 | D31: 2227 | E31: 0 | F31: 455 | G31: 38
B32: 熱田 | C32: 1711 | D32: 1455 | E32: 0 | F32: 240 | G32: 16
B33: 中川 | C33: 5510 | D33: 4658 | E33: 0 | F33: 768 | G33: 84
B34: 港 | C34: 4056 | D34: 3460 | E34: 0 | F34: 526 | G34: 70
B35: 南 | C35: 4015 | D35: 3403 | E35: 0 | F35: 563 | G35: 49
B36: 守山 | C36: 4985 | D36: 4152 | E36: 0 | F36: 761 | G36: 72
... B39: 天白 | C39: 3741 | D39: 3021 | E39: 0 | F39: 675 | G39: 45

Sheet 24-12
A1: 表２４－１２ 福祉給付金（一部負担金）
A2: 年度 | B2: 件数 | C2: 支給額
B3: 件 | C3: 円
A4: 2015 | B4: 1764483 | C4: 6760946013
A5: 2016 | B5: 1786410 | C5: 6635740365
A6: 2017 | B6: 1817277 | C6: 6958289938
A7: 2018 | B7: 1851110 | C7: 7280394680
A8: 2019 | B8: 1896667 | C8: 7611911816
A9: 2020 | B9: 1820623 | C9: 7302677140
A10: 2021 | B10: 1882806 | C10: 7428571389
A11: 2022 | B11: 1914272 | C11: 7634085252
A12: 2023 | B12: 1996937 | C12: 8280804790
A13: 2024 | B13: 2063035 | C13: 8503530188
A14: 2025 | B14: 2106190 | C14: 8591442397
