Workbook
Name 同上の所在地: 入力用!$B$11

Sheet 入力用
A1: 令和９年度 給与支払報告書（総括表）【入力シート】 | O1: =IF(LEN(B5)>12,"法人番号",IF(B5="","","個人番号"))
P2: 13 | Q2: 12 | R2: 11 | S2: 10 | T2: 9 | U2: 8 | V2: 7 | W2: 6 | X2: 5 | Y2: 4 | Z2: 3 | AA2: 2 | AB2: 1
A3: 令和９年 | C3: 月 | E3: 日提出 | O3: 法人番号 | P3: =IF(LENB($B$5)<P$2,IF($B$5="","",0),TRUNC(RIGHTB($B$5,P$2)/POWER(10,P$2-1),0)) | Q3: =IF(LENB($B$5)<Q$2,IF($B$5="","",0),TRUNC(RIGHTB($B$5,Q$2)/POWER(10,Q$2-1),0)) | R3: =IF(LENB($B$5)<R$2,IF($B$5="","",0),TRUNC(RIGHTB($B$5,R$2)/POWER(10,R$2-1),0)) | S3: =IF(LENB($B$5)<S$2,IF($B$5="","",0),TRUNC(RIGHTB($B$5,S$2)/POWER(10,S$2-1),0)) | T3: =IF(LENB($B$5)<T$2,IF($B$5="","",0),TRUNC(RIGHTB($B$5,T$2)/POWER(10,T$2-1),0)) | U3: =IF(LENB($B$5)<U$2,IF($B$5="","",0),TRUNC(RIGHTB($B$5,U$2)/POWER(10,U$2-1),0)) | V3: =IF(LENB($B$5)<V$2,IF($B$5="","",0),TRUNC(RIGHTB($B$5,V$2)/POWER(10,V$2-1),0)) | W3: =IF(LENB($B$5)<W$2,IF($B$5="","",0),TRUNC(RIGHTB($B$5,W$2)/POWER(10,W$2-1),0)) | ... AB3: =IF(LENB($B$5)<AB$2,IF($B$5="","",0),TRUNC(RIGHTB($B$5,AB$2)/POWER(10,AB$2-1),0))
A4: 給与の支払期間 | B4: 令和 | D4: 年 | F4: 月分から | H4: 月分まで | I4: 指定番号 | O4: 個人番号 | Q4: =IF(LENB($B$5)<Q$2,IF($B$5="","",0),TRUNC(RIGHTB($B$5,Q$2)/POWER(10,Q$2-1),0)) | R4: =IF(LENB($B$5)<R$2,IF($B$5="","",0),TRUNC(RIGHTB($B$5,R$2)/POWER(10,R$2-1),0)) | S4: =IF(LENB($B$5)<S$2,IF($B$5="","",0),TRUNC(RIGHTB($B$5,S$2)/POWER(10,S$2-1),0)) | T4: =IF(LENB($B$5)<T$2,IF($B$5="","",0),TRUNC(RIGHTB($B$5,T$2)/POWER(10,T$2-1),0)) | U4: =IF(LENB($B$5)<U$2,IF($B$5="","",0),TRUNC(RIGHTB($B$5,U$2)/POWER(10,U$2-1),0)) | V4: =IF(LENB($B$5)<V$2,IF($B$5="","",0),TRUNC(RIGHTB($B$5,V$2)/POWER(10,V$2-1),0)) | W4: =IF(LENB($B$5)<W$2,IF($B$5="","",0),TRUNC(RIGHTB($B$5,W$2)/POWER(10,W$2-1),0)) | X4: =IF(LENB($B$5)<X$2,IF($B$5="","",0),TRUNC(RIGHTB($B$5,X$2)/POWER(10,X$2-1),0)) | ... AB4: =IF(LENB($B$5)<AB$2,IF($B$5="","",0),TRUNC(RIGHTB($B$5,AB$2)/POWER(10,AB$2-1),0))
A5: 給与支払者 の個人番号 又は法人番号
A6: フリガナ | O6: 選択 | P6: =IF($O$1="法人番号",P3,IF(P4="","",P4)) | Q6: =IF($O$1="法人番号",Q3,IF(Q4="","",Q4)) | R6: =IF($O$1="法人番号",R3,IF(R4="","",R4)) | S6: =IF($O$1="法人番号",S3,IF(S4="","",S4)) | T6: =IF($O$1="法人番号",T3,IF(T4="","",T4)) | U6: =IF($O$1="法人番号",U3,IF(U4="","",U4)) | V6: =IF($O$1="法人番号",V3,IF(V4="","",V4)) | W6: =IF($O$1="法人番号",W3,IF(W4="","",W4)) | ... AB6: =IF($O$1="法人番号",AB3,IF(AB4="","",AB4))
A7: 給与支払者の 氏名又は名称 | I7: 事業種目 | O7: 指定番号 | R7: =IF(LENB($I$5)<R$2,IF($I$5="","",0),TRUNC(RIGHTB($I$5,R$2)/POWER(10,R$2-1),0)) | S7: =IF(LENB($I$5)<S$2,IF($I$5="","",0),TRUNC(RIGHTB($I$5,S$2)/POWER(10,S$2-1),0)) | T7: =IF(LENB($I$5)<T$2,IF($I$5="","",0),TRUNC(RIGHTB($I$5,T$2)/POWER(10,T$2-1),0)) | U7: =IF(LENB($I$5)<U$2,IF($I$5="","",0),TRUNC(RIGHTB($I$5,U$2)/POWER(10,U$2-1),0)) | V7: =IF(LENB($I$5)<V$2,IF($I$5="","",0),TRUNC(RIGHTB($I$5,V$2)/POWER(10,V$2-1),0)) | W7: =IF(LENB($I$5)<W$2,IF($I$5="","",0),TRUNC(RIGHTB($I$5,W$2)/POWER(10,W$2-1),0)) | X7: =IF(LENB($I$5)<X$2,IF($I$5="","",0),TRUNC(RIGHTB($I$5,X$2)/POWER(10,X$2-1),0)) | Y7: =IF(LENB($I$5)<Y$2,IF($I$5="","",0),TRUNC(RIGHTB($I$5,Y$2)/POWER(10,Y$2-1),0)) | ... AB7: =IF(LENB($I$5)<AB$2,IF($I$5="","",0),TRUNC(RIGHTB($I$5,AB$2)/POWER(10,AB$2-1),0))
I8: 受給者総人員
A9: 所得税の源泉徴収 をしている事務所 又は事業所の名称 | I9: 報告人員 | J9: 特別徴収 対 象 者
A10: フリガナ | J10: 普通徴収 対 象 者 (退職者)
A11: 同上の所在地 | B11: 〒 | J11: 普通徴収 対 象 者 (退職者を除く) | M11: 色付きのセルへ入力できるようになっています（セルによっては、入力文字数等を制限しています。）。 「納入書の送付」欄については、納入書の送付が必要か不要かを必ず選択してください。 必要事項を入力し、「名古屋市提出用」、「市町村提出用」シートを選択して印刷してください。 なお、印刷前後に入力内容が反映されているか確認のうえ、半分に切って（A5サイズにして）提出してください。
J12: 報告人員 の 合 計
A13: 給与支払者が法 人である場合の 代 表 者 の 氏 名 | H13: 所轄 税務署名 | K13: 税務署
A14: 連絡者の氏名、 所属課、係名 及び電話番号 | B14: 課 係 | H14: 給与の支払方法 及びその期日
B15: 氏名
B16: 電話 | H16: 納入書の送付
A17: 関与税理士等の 氏名及び電話番号 | B17: 氏名
B18: 電話

Sheet 【名古屋市提出用 】
BN1: ⇦ | BO1: Ａ４サイズで印刷の上、半分に切って提出してください。
B2: ⑨給与支払報告書（総括表）
C3: (宛 先) | D3: 名古屋市 | Y3: 指 定 番 号 | BE3: ※
Y4: =IF(入力用!$I$5="","",入力用!$I$5)
D5: 令和９年 | L5: =IF(入力用!$B$3="","",入力用!$B$3) | O5: 月 | Q5: =IF(入力用!$D$3="","",入力用!$D$3) | T5: 日提出
C6: 給与の支払期間 | D6: =IF(入力用!$B$4="","",入力用!$B$4) -> 令和 | I6: =IF(入力用!$C$4="","",入力用!$C$4) | M6: 年 | O6: =IF(入力用!$E$4="","",入力用!$E$4) | U6: 月分から | AD6: =IF(入力用!$G$4="","",入力用!$G$4) | AI6: 月分まで
C7: 給与支払者 の個人番号 又は法人番号 | D7: =IF(入力用!$P$6="","",入力用!$P$6) | G7: =IF(入力用!$Q$6="","",入力用!$Q$6) | J7: =IF(入力用!$R$6="","",入力用!$R$6) | M7: =IF(入力用!$S$6="","",入力用!$S$6) | P7: =IF(入力用!$T$6="","",入力用!$T$6) | S7: =IF(入力用!$U$6="","",入力用!$U$6) | V7: =IF(入力用!$V$6="","",入力用!$V$6) | Y7: =IF(入力用!$W$6="","",入力用!$W$6) | AB7: =IF(入力用!$X$6="","",入力用!$X$6) | AE7: =IF(入力用!$Y$6="","",入力用!$Y$6) | AH7: =IF(入力用!$Z$6="","",入力用!$Z$6) | AK7: =IF(入力用!$AA$6="","",入力用!$AA$6) | AN7: =IF(入力用!$AB$6="","",入力用!$AB$6) | AQ7: 個人番号は右詰で 記載してください。
C8: フリガナ | D8: =IF(入力用!$B$6="","",入力用!$B$6) | AQ8: 事業種目 | BB8: =IF(入力用!$K$7="","",入力用!$K$7)
C10: 給与支払者の 氏名又は名称 | D10: =IF(入力用!$B$7="","",入力用!$B$7)
AQ12: 受給者 総人員 | BB12: =IF(入力用!$K$8="","",入力用!$K$8) | BI12: 人
C16: 所得税の源泉徴収 をしている事務所 又は事業所の名称 | D16: =IF(入力用!B9="","",入力用!B9) | AQ16: 報 告 人 員 | AT16: 特別徴収 対 象 者 | BB16: =IF(入力用!$K$9="","",入力用!$K$9) | BI16: 人
C17: フリガナ | D17: =IF(入力用!B10="","",入力用!B10) | AT17: 普通徴収 対 象 者 (退職者) | BB17: =IF(入力用!$K$10="","",入力用!$K$10) | BI17: 人
B18: （名古屋市提出用） | C18: 同上の所在地
D19: =IF(入力用!B11="","",入力用!B11) -> 〒 | AT19: 普通徴収 対 象 者 (退職者を除く) | BB19: =IF(入力用!$K$11="","",入力用!$K$11) | BI19: 人
AT21: 報告人員 の 合 計 | BB21: =IF(入力用!$K$12="","",入力用!$K$12) | BI21: 人 | BQ21: 切り取って宛先としてご利用ください。
C22: 給与支払者が法 人である場合の 代 表 者 の 氏 名 | D22: =IF(入力用!$B$13="","",入力用!$B$13) | AG22: 所轄 税務署名 | AT22: =IF(入力用!$J$13="","",入力用!$J$13) | BE22: 税務署
C26: 連絡者の氏名、 所属課、係名 及び電話番号 | D26: =IF(入力用!$B$14="","",入力用!$B$14) -> 課 係 | AG26: 給与の支払方法 及びその期日 | AT26: =IF(入力用!$J$14="","",入力用!$J$14)
D29: 氏名 | J29: =IF(入力用!$C$15="","",入力用!$C$15) | BQ29: 〒４６０－８２０１ 名古屋市中区丸の内三丁目１０番４号 （丸の内会館） 名古屋市個人市民税 特別徴収センター 行 （給与支払報告書等在中）
D33: （電話 | J33: =IF(入力用!$C$16="","",入力用!$C$16) | AD33: ）
AG34: 納入書の送付 | AT34: =IF(入力用!$J$16="","""",入力用!$J$16)
C36: 関与税理士等の 氏名及び電話番号 | D36: 氏名 | J36: =IF(入力用!$C$17="","",入力用!$C$17)
AG38: ※
D39: （電話 | J39: =IF(入力用!$C$18="","",入力用!$C$18) | AD39: ）
AG40: 処理欄
B42: 個人別明細書に総括表を添えて提出してください。 | AS42: 提出期限２月１日
B44: ＊名古屋市に個人別明細書を提出する受給者がいない場合でも、総括表の『報告
B46: 人員』の『報告人員の合計』欄に「０」と記入して提出してください。
B51: ※印の欄は記載する必要はありません。
B52: ※ 身 元 確 認 | AA52: ※ 番 号 確 認
B53: □済 □未済 個 ・ 運 ・ 代 ・ 税 ・ 資 ・ 総 ・ 他（ ） | AA53: □済 □未済 個 ・ 通 ・ 住 ・ シ
B54: ※ | R54: ※補完

Sheet 【市町村提出用】
C1: ⑨ | BP1: ⑨
AE2: 指 定 番 号 | CR2: 指 定 番 号
C3: 給与支払報告書（総括表） | BP3: 給与支払報告書（総括表）
AE4: =IF(入力用!$I$5="","",入力用!$I$5) | CR4: =IF(入力用!$I$5="","",入力用!$I$5)
C6: 令和９年 | D6: =IF(入力用!$B$3="","",入力用!$B$3) | H6: 月 | L6: =IF(入力用!$D$3="","",入力用!$D$3) | P6: 日提出 | BP6: 令和９年 | BQ6: =IF(入力用!$B$3="","",入力用!$B$3) | BU6: 月 | BY6: =IF(入力用!$D$3="","",入力用!$D$3) | CC6: 日提出
C7: 給与の支払期間 | D7: =IF(入力用!$B$4="","",入力用!$B$4) -> 令和 | I7: =IF(入力用!$C$4="","",入力用!$C$4) | M7: 年 | O7: =IF(入力用!$E$4="","",入力用!$E$4) | U7: 月分から | AD7: =IF(入力用!$G$4="","",入力用!$G$4) | AI7: 月分まで | BP7: 給与の支払期間 | BQ7: =IF(入力用!$B$4="","",入力用!$B$4) -> 令和 | BV7: =IF(入力用!$C$4="","",入力用!$C$4) | BZ7: 年 | CB7: =IF(入力用!$E$4="","",入力用!$E$4) | CH7: 月分から | CQ7: =IF(入力用!$G$4="","",入力用!$G$4) | CV7: 月分まで
C8: 給与支払者 の個人番号 又は法人番号 | D8: =IF(入力用!$P$6="","",入力用!$P$6) | G8: =IF(入力用!$Q$6="","",入力用!$Q$6) | J8: =IF(入力用!$R$6="","",入力用!$R$6) | M8: =IF(入力用!$S$6="","",入力用!$S$6) | P8: =IF(入力用!$T$6="","",入力用!$T$6) | S8: =IF(入力用!$U$6="","",入力用!$U$6) | V8: =IF(入力用!$V$6="","",入力用!$V$6) | Y8: =IF(入力用!$W$6="","",入力用!$W$6) | AB8: =IF(入力用!$X$6="","",入力用!$X$6) | AE8: =IF(入力用!$Y$6="","",入力用!$Y$6) | AH8: =IF(入力用!$Z$6="","",入力用!$Z$6) | AK8: =IF(入力用!$AA$6="","",入力用!$AA$6) | AN8: =IF(入力用!$AB$6="","",入力用!$AB$6) | AQ8: 個人番号は右詰で 記載してください。 | BP8: 給与支払者 の個人番号 又は法人番号 | BQ8: =IF(入力用!$P$6="","",入力用!$P$6) | BT8: =IF(入力用!$Q$6="","",入力用!$Q$6) | BW8: =IF(入力用!$R$6="","",入力用!$R$6) | BZ8: =IF(入力用!$S$6="","",入力用!$S$6) | CC8: =IF(入力用!$T$6="","",入力用!$T$6) | CF8: =IF(入力用!$U$6="","",入力用!$U$6) | CI8: =IF(入力用!$V$6="","",入力用!$V$6) | CL8: =IF(入力用!$W$6="","",入力用!$W$6) | CO8: =IF(入力用!$X$6="","",入力用!$X$6) | CR8: =IF(入力用!$Y$6="","",入力用!$Y$6) | CU8: =IF(入力用!$Z$6="","",入力用!$Z$6) | CX8: =IF(入力用!$AA$6="","",入力用!$AA$6) | DA8: =IF(入力用!$AB$6="","",入力用!$AB$6) | DD8: 個人番号は右詰で 記載してください。
C9: フリガナ | D9: =IF(入力用!$B$6="","",入力用!$B$6) | AQ9: 事業種目 | BB9: =IF(入力用!$K$7="","",入力用!$K$7) | BP9: フリガナ | BQ9: =IF(入力用!$B$6="","",入力用!$B$6) | DD9: 事業種目 | DO9: =IF(入力用!$K$7="","",入力用!$K$7)
C11: 給与支払者の 氏名又は名称 | D11: =IF(入力用!$B$7="","",入力用!$B$7) | BP11: 給与支払者の 氏名又は名称 | BQ11: =IF(入力用!$B$7="","",入力用!$B$7)
AQ13: 受給者 総人員 | BB13: =IF(入力用!$K$8="","",入力用!$K$8) | BI13: 人 | DD13: 受給者 総人員 | DO13: =IF(入力用!$K$8="","",入力用!$K$8) | DV13: 人
C17: 所得税の源泉徴収 をしている事務所 又は事業所の名称 | D17: =IF(入力用!B9="","",入力用!B9) | AQ17: 報 告 人 員 | AT17: 特別徴収 対 象 者 | BB17: =IF(入力用!$K$9="","",入力用!$K$9) | BI17: 人 | BP17: 所得税の源泉徴収 をしている事務所 又は事業所の名称 | BQ17: =IF(入力用!B9="","",入力用!B9) | DD17: 報 告 人 員 | DG17: 特別徴収 対 象 者 | DO17: =IF(入力用!$K$9="","",入力用!$K$9) | DV17: 人
C18: フリガナ | D18: =IF(入力用!B10="","",入力用!B10) | AT18: 普通徴収 対 象 者 (退職者) | BB18: =IF(入力用!$K$10="","",入力用!$K$10) | BI18: 人 | BP18: フリガナ | BQ18: =IF(入力用!B10="","",入力用!B10) | DG18: 普通徴収 対 象 者 (退職者) | DO18: =IF(入力用!$K$10="","",入力用!$K$10) | DV18: 人
B19: （市町村提出用） | C19: 同上の所在地 | BO19: （市町村提出用） | BP19: 同上の所在地
D20: =IF(入力用!B11="","",入力用!B11) -> 〒 | AT20: 普通徴収 対 象 者 (退職者を除く) | BB20: =IF(入力用!$K$11="","",入力用!$K$11) | BI20: 人 | BQ20: =IF(入力用!B11="","",入力用!B11) -> 〒 | DG20: 普通徴収 対 象 者 (退職者を除く) | DO20: =IF(入力用!$K$11="","",入力用!$K$11) | DV20: 人
AT22: 報告人員 の 合 計 | BB22: =IF(入力用!$K$12="","",入力用!$K$12) | BI22: 人 | DG22: 報告人員 の 合 計 | DO22: =IF(入力用!$K$12="","",入力用!$K$12) | DV22: 人
C23: 給与支払者が 法人である場合 の代表者の氏 名 | D23: =IF(入力用!$B$13="","",入力用!$B$13) | AG23: 所轄 税務署名 | AT23: =IF(入力用!$J$13="","",入力用!$J$13) | BE23: 税務署 | BP23: 給与支払者が 法人である場合 の代表者の氏名 | BQ23: =IF(入力用!$B$13="","",入力用!$B$13) | CT23: 所轄 税務署名 | DG23: =IF(入力用!$J$13="","",入力用!$J$13) | DR23: 税務署
C27: 連絡者の氏名、 所属課、係名 及び電話番号 | D27: =IF(入力用!$B$14="","",入力用!$B$14) -> 課 係 | AG27: 給与の支払方法 及びその期日 | AT27: =IF(入力用!$J$14="","",入力用!$J$14) | BP27: 連絡者の氏名、 所属課、係名 及び電話番号 | BQ27: =IF(入力用!$B$14="","",入力用!$B$14) -> 課 係 | CT27: 給与の支払方法 及びその期日 | DG27: =IF(入力用!$J$14="","",入力用!$J$14)
D30: 氏名 | J30: =IF(入力用!$C$15="","",入力用!$C$15) | BQ30: 氏名 | BW30: =IF(入力用!$C$15="","",入力用!$C$15)
D34: （電話 | J34: =IF(入力用!$C$16="","",入力用!$C$16) | AD34: ） | BQ34: （電話 | BW34: =IF(入力用!$C$16="","",入力用!$C$16) | CQ34: ）
C37: 関与税理士等 の氏名及び 電話番号 | D37: 氏名 | J37: =IF(入力用!$C$17="","",入力用!$C$17) | AG37: 納入書の送付 | AT37: =IF(入力用!$J$16="","""",入力用!$J$16) | BP37: 関与税理士等 の氏名及び 電話番号 | BQ37: 氏名 | BW37: =IF(入力用!$C$17="","",入力用!$C$17) | CT37: 納入書の送付 | DG37: =IF(入力用!$J$16="","""",入力用!$J$16)
D40: （電話 | J40: =IF(入力用!$C$18="","",入力用!$C$18) | AD40: ） | BQ40: （電話 | BW40: =IF(入力用!$C$18="","",入力用!$C$18) | CQ40: ）
C43: 個人別明細書に総括表を添えて提出してください。 | AM43: 提出期限 令和９年２月１日 | BP43: 個人別明細書に総括表を添えて提出してください。 | CZ43: 提出期限 令和９年２月１日
