Workbook

Sheet 入力用
B1: 令和9年度 給与支払報告書（個人別明細書）・令和8年分 源泉徴収票 作成入力画面
A2: 色付きのセルへ入力できるようになっています（セルによっては入力文字数等を制限しています。）。 必要事項を入力し、「給与支払報告書」、「源泉徴収票」シートをそれぞれ選択して印刷してください。 なお、印刷前後に入力内容が反映されているか確認のうえ、半分に切って（A5サイズにして）提出（交付）してください。 別の受給者の給与支払報告書を作成するために、「支払者」以外の入力内容をまとめて消したい場合は、「入力用シート削除方法」シートを参考にしてください。 | C2: 支 払 を受け る 者 | I2: 住 所 | BP2: （受給者番号）
BP3: （個人番号）
BP4: （役職名）
BP5: 氏 名 | BU5: （フリガナ） | DO5: 明治 | DP5: 大正 | DQ5: 昭和 | DR5: 平成 | DS5: 令和
DO6: 〇 | DP6: 00 | DQ6: 01 | DR6: 02 | DS6: 03 | DT6: 04 | DU6: 10 | DV6: 20 | DW6: 30 | DX6: 40 | DY6: 50 | DZ6: 60 | EA6: 70 | EB6: 80 | EC6: 90 | ED6: 11 | EE6: 21 | EF6: 31 | EG6: 41 | EH6: 51 | EI6: 61 | EJ6: 71 | EK6: 81 | EL6: 91
C7: 種 別 | Y7: 支 払 金 額 | AV7: 給与所得控除後の金額 (調 整 控 除 後) | BS7: 所得控除の額の合計額 | CO7: 源 泉 徴 収 税 額
AR8: 円 | AV8: 円 | BS8: 円 | DH8: 円
DN9: 13 | DO9: 12 | DP9: 11 | DQ9: 10 | DR9: 9 | DS9: 8 | DT9: 7 | DU9: 6 | DV9: 5 | DW9: 4 | DX9: 3 | DY9: 2 | DZ9: 1
C10: (源泉)控除対象配偶者 | T10: 配偶者(特別) 控 除 の 額 | AH10: 控除対象扶養親族等の数 （配偶者を除く。） | CF10: 16歳未満 扶養親族 の 数 | CM10: 障害者の数 （本人を除く｡） | DD10: 非居住者 である 親族の数 | DM10: 個人番号 | DO10: =IF(LENB($CA$3)<DO$9,IF($CA$3="","",0),TRUNC(RIGHTB($CA$3,DO$9)/POWER(10,DO$9-1),0)) | DP10: =IF(LENB($CA$3)<DP$9,IF($CA$3="","",0),TRUNC(RIGHTB($CA$3,DP$9)/POWER(10,DP$9-1),0)) | DQ10: =IF(LENB($CA$3)<DQ$9,IF($CA$3="","",0),TRUNC(RIGHTB($CA$3,DQ$9)/POWER(10,DQ$9-1),0)) | DR10: =IF(LENB($CA$3)<DR$9,IF($CA$3="","",0),TRUNC(RIGHTB($CA$3,DR$9)/POWER(10,DR$9-1),0)) | DS10: =IF(LENB($CA$3)<DS$9,IF($CA$3="","",0),TRUNC(RIGHTB($CA$3,DS$9)/POWER(10,DS$9-1),0)) | DT10: =IF(LENB($CA$3)<DT$9,IF($CA$3="","",0),TRUNC(RIGHTB($CA$3,DT$9)/POWER(10,DT$9-1),0)) | DU10: =IF(LENB($CA$3)<DU$9,IF($CA$3="","",0),TRUNC(RIGHTB($CA$3,DU$9)/POWER(10,DU$9-1),0)) | DV10: =IF(LENB($CA$3)<DV$9,IF($CA$3="","",0),TRUNC(RIGHTB($CA$3,DV$9)/POWER(10,DV$9-1),0)) | ... DZ10: =IF(LENB($CA$3)<DZ$9,IF($CA$3="","",0),TRUNC(RIGHTB($CA$3,DZ$9)/POWER(10,DZ$9-1),0))
C11: の有無等
O12: 老人 | AH12: 特 定 | AS12: 老 人 | BJ12: そ の 他 | BU12: 特 親 | CM12: 特 別 | CX12: その他
C13: 有 | I13: 従有 | T13: 円 | AH13: 人 | AN13: 従人 | AS13: 内 | AY13: 人 | BE13: 従人 | BJ13: 人 | BP13: 従人 | BU13: 人 | CA13: 従人 | CF13: 人 | CM13: 内 | CR13: 人 | CX13: 人 | DD13: 人
C15: 特定親族特別控除の額 | Y15: 社会保険料等の金額 | AV15: 生命保険料の控除額 | BS15: 地震保険料の控除額 | CO15: 住宅借入金等特別控除の額
AS16: 円 | AV16: 円 | BS16: 円 | CO16: 円
C18: （摘要）
C20: 生命保険 料の金額 の内訳 | J20: 新生命 保険料 の金額 | R20: 円 | AE20: 旧生命 保険料 の金額 | AM20: 円 | AZ20: 介護医療 保険料 の金額 | BH20: 円 | BU20: 新個人年 金保険料 の金額 | CC20: 円 | CP20: 旧個人年 金保険料 の金額 | CX20: 円
C22: 住宅借入 金等特別 控除の額 の内訳 | J22: 住宅借入金 等特別控除 適用数 | AE22: 居住開始年月 日（１回目） | AN22: 年 | AU22: 月 | BB22: 日 | BI22: 住宅借入金等 特別控除区分 （1回目） | CC22: 住宅借入金等 年 末 残 高 （1回目） | CO22: 円
DM23: 個人番号（配偶者） | DO23: =IF(LENB($P$30)<DO$9,IF($P$30="","",0),TRUNC(RIGHTB($P$30,DO$9)/POWER(10,DO$9-1),0)) | DP23: =IF(LENB($P$30)<DP$9,IF($P$30="","",0),TRUNC(RIGHTB($P$30,DP$9)/POWER(10,DP$9-1),0)) | DQ23: =IF(LENB($P$30)<DQ$9,IF($P$30="","",0),TRUNC(RIGHTB($P$30,DQ$9)/POWER(10,DQ$9-1),0)) | DR23: =IF(LENB($P$30)<DR$9,IF($P$30="","",0),TRUNC(RIGHTB($P$30,DR$9)/POWER(10,DR$9-1),0)) | DS23: =IF(LENB($P$30)<DS$9,IF($P$30="","",0),TRUNC(RIGHTB($P$30,DS$9)/POWER(10,DS$9-1),0)) | DT23: =IF(LENB($P$30)<DT$9,IF($P$30="","",0),TRUNC(RIGHTB($P$30,DT$9)/POWER(10,DT$9-1),0)) | DU23: =IF(LENB($P$30)<DU$9,IF($P$30="","",0),TRUNC(RIGHTB($P$30,DU$9)/POWER(10,DU$9-1),0)) | DV23: =IF(LENB($P$30)<DV$9,IF($P$30="","",0),TRUNC(RIGHTB($P$30,DV$9)/POWER(10,DV$9-1),0)) | ... DZ23: =IF(LENB($P$30)<DZ$9,IF($P$30="","",0),TRUNC(RIGHTB($P$30,DZ$9)/POWER(10,DZ$9-1),0))
J24: 住宅借入金 等特別控除 可能額 | R24: 円 | AE24: 居住開始年月 日（２回目） | AN24: 年 | AU24: 月 | BB24: 日 | BI24: 住宅借入金等 特別控除区分 （2回目） | CC24: 住宅借入金等 年 末 残 高 （2回目） | CO24: 円 | DM24: 個人番号１ | DO24: =IF(LENB($P$33)<DO$9,IF($P$33="","",0),TRUNC(RIGHTB($P$33,DO$9)/POWER(10,DO$9-1),0)) | DP24: =IF(LENB($P$33)<DP$9,IF($P$33="","",0),TRUNC(RIGHTB($P$33,DP$9)/POWER(10,DP$9-1),0)) | DQ24: =IF(LENB($P$33)<DQ$9,IF($P$33="","",0),TRUNC(RIGHTB($P$33,DQ$9)/POWER(10,DQ$9-1),0)) | DR24: =IF(LENB($P$33)<DR$9,IF($P$33="","",0),TRUNC(RIGHTB($P$33,DR$9)/POWER(10,DR$9-1),0)) | DS24: =IF(LENB($P$33)<DS$9,IF($P$33="","",0),TRUNC(RIGHTB($P$33,DS$9)/POWER(10,DS$9-1),0)) | DT24: =IF(LENB($P$33)<DT$9,IF($P$33="","",0),TRUNC(RIGHTB($P$33,DT$9)/POWER(10,DT$9-1),0)) | DU24: =IF(LENB($P$33)<DU$9,IF($P$33="","",0),TRUNC(RIGHTB($P$33,DU$9)/POWER(10,DU$9-1),0)) | DV24: =IF(LENB($P$33)<DV$9,IF($P$33="","",0),TRUNC(RIGHTB($P$33,DV$9)/POWER(10,DV$9-1),0)) | ... DZ24: =IF(LENB($P$33)<DZ$9,IF($P$33="","",0),TRUNC(RIGHTB($P$33,DZ$9)/POWER(10,DZ$9-1),0))
DM25: 個人番号２ | DO25: =IF(LENB($P$36)<DO$9,IF($P$36="","",0),TRUNC(RIGHTB($P$36,DO$9)/POWER(10,DO$9-1),0)) | DP25: =IF(LENB($P$36)<DP$9,IF($P$36="","",0),TRUNC(RIGHTB($P$36,DP$9)/POWER(10,DP$9-1),0)) | DQ25: =IF(LENB($P$36)<DQ$9,IF($P$36="","",0),TRUNC(RIGHTB($P$36,DQ$9)/POWER(10,DQ$9-1),0)) | DR25: =IF(LENB($P$36)<DR$9,IF($P$36="","",0),TRUNC(RIGHTB($P$36,DR$9)/POWER(10,DR$9-1),0)) | DS25: =IF(LENB($P$36)<DS$9,IF($P$36="","",0),TRUNC(RIGHTB($P$36,DS$9)/POWER(10,DS$9-1),0)) | DT25: =IF(LENB($P$36)<DT$9,IF($P$36="","",0),TRUNC(RIGHTB($P$36,DT$9)/POWER(10,DT$9-1),0)) | DU25: =IF(LENB($P$36)<DU$9,IF($P$36="","",0),TRUNC(RIGHTB($P$36,DU$9)/POWER(10,DU$9-1),0)) | DV25: =IF(LENB($P$36)<DV$9,IF($P$36="","",0),TRUNC(RIGHTB($P$36,DV$9)/POWER(10,DV$9-1),0)) | ... DZ25: =IF(LENB($P$36)<DZ$9,IF($P$36="","",0),TRUNC(RIGHTB($P$36,DZ$9)/POWER(10,DZ$9-1),0))
C26: (源泉･特別) 控除対象 配偶者 | I26: (フリガナ) | AQ26: 区分 | AZ26: 配偶者の 合計所得 | BH26: 円 | BU26: 国民年金保険 料等の金額 | CE26: 円 | CP26: 旧長期損害 保険料の金額 | CZ26: 円 | DM26: 個人番号３ | DO26: =IF(LENB($P$39)<DO$9,IF($P$39="","",0),TRUNC(RIGHTB($P$39,DO$9)/POWER(10,DO$9-1),0)) | DP26: =IF(LENB($P$39)<DP$9,IF($P$39="","",0),TRUNC(RIGHTB($P$39,DP$9)/POWER(10,DP$9-1),0)) | DQ26: =IF(LENB($P$39)<DQ$9,IF($P$39="","",0),TRUNC(RIGHTB($P$39,DQ$9)/POWER(10,DQ$9-1),0)) | DR26: =IF(LENB($P$39)<DR$9,IF($P$39="","",0),TRUNC(RIGHTB($P$39,DR$9)/POWER(10,DR$9-1),0)) | DS26: =IF(LENB($P$39)<DS$9,IF($P$39="","",0),TRUNC(RIGHTB($P$39,DS$9)/POWER(10,DS$9-1),0)) | DT26: =IF(LENB($P$39)<DT$9,IF($P$39="","",0),TRUNC(RIGHTB($P$39,DT$9)/POWER(10,DT$9-1),0)) | DU26: =IF(LENB($P$39)<DU$9,IF($P$39="","",0),TRUNC(RIGHTB($P$39,DU$9)/POWER(10,DU$9-1),0)) | DV26: =IF(LENB($P$39)<DV$9,IF($P$39="","",0),TRUNC(RIGHTB($P$39,DV$9)/POWER(10,DV$9-1),0)) | ... DZ26: =IF(LENB($P$39)<DZ$9,IF($P$39="","",0),TRUNC(RIGHTB($P$39,DZ$9)/POWER(10,DZ$9-1),0))
DM27: 個人番号４ | DO27: =IF(LENB($P$42)<DO$9,IF($P$42="","",0),TRUNC(RIGHTB($P$42,DO$9)/POWER(10,DO$9-1),0)) | DP27: =IF(LENB($P$42)<DP$9,IF($P$42="","",0),TRUNC(RIGHTB($P$42,DP$9)/POWER(10,DP$9-1),0)) | DQ27: =IF(LENB($P$42)<DQ$9,IF($P$42="","",0),TRUNC(RIGHTB($P$42,DQ$9)/POWER(10,DQ$9-1),0)) | DR27: =IF(LENB($P$42)<DR$9,IF($P$42="","",0),TRUNC(RIGHTB($P$42,DR$9)/POWER(10,DR$9-1),0)) | DS27: =IF(LENB($P$42)<DS$9,IF($P$42="","",0),TRUNC(RIGHTB($P$42,DS$9)/POWER(10,DS$9-1),0)) | DT27: =IF(LENB($P$42)<DT$9,IF($P$42="","",0),TRUNC(RIGHTB($P$42,DT$9)/POWER(10,DT$9-1),0)) | DU27: =IF(LENB($P$42)<DU$9,IF($P$42="","",0),TRUNC(RIGHTB($P$42,DU$9)/POWER(10,DU$9-1),0)) | DV27: =IF(LENB($P$42)<DV$9,IF($P$42="","",0),TRUNC(RIGHTB($P$42,DV$9)/POWER(10,DV$9-1),0)) | ... DZ27: =IF(LENB($P$42)<DZ$9,IF($P$42="","",0),TRUNC(RIGHTB($P$42,DZ$9)/POWER(10,DZ$9-1),0))
I28: 氏 名 | DM28: 個人番号① | DO28: =IF(LENB($BM$33)<DO$9,IF($BM$33="","",0),TRUNC(RIGHTB($BM$33,DO$9)/POWER(10,DO$9-1),0)) | DP28: =IF(LENB($BM$33)<DP$9,IF($BM$33="","",0),TRUNC(RIGHTB($BM$33,DP$9)/POWER(10,DP$9-1),0)) | DQ28: =IF(LENB($BM$33)<DQ$9,IF($BM$33="","",0),TRUNC(RIGHTB($BM$33,DQ$9)/POWER(10,DQ$9-1),0)) | DR28: =IF(LENB($BM$33)<DR$9,IF($BM$33="","",0),TRUNC(RIGHTB($BM$33,DR$9)/POWER(10,DR$9-1),0)) | DS28: =IF(LENB($BM$33)<DS$9,IF($BM$33="","",0),TRUNC(RIGHTB($BM$33,DS$9)/POWER(10,DS$9-1),0)) | DT28: =IF(LENB($BM$33)<DT$9,IF($BM$33="","",0),TRUNC(RIGHTB($BM$33,DT$9)/POWER(10,DT$9-1),0)) | DU28: =IF(LENB($BM$33)<DU$9,IF($BM$33="","",0),TRUNC(RIGHTB($BM$33,DU$9)/POWER(10,DU$9-1),0)) | DV28: =IF(LENB($BM$33)<DV$9,IF($BM$33="","",0),TRUNC(RIGHTB($BM$33,DV$9)/POWER(10,DV$9-1),0)) | ... DZ28: =IF(LENB($BM$33)<DZ$9,IF($BM$33="","",0),TRUNC(RIGHTB($BM$33,DZ$9)/POWER(10,DZ$9-1),0))
BU29: 基礎控除の額 | CE29: 円 | CP29: 所得金額 調整控除額 | CZ29: 円 | DM29: 個人番号② | DO29: =IF(LENB($BM$36)<DO$9,IF($BM$36="","",0),TRUNC(RIGHTB($BM$36,DO$9)/POWER(10,DO$9-1),0)) | DP29: =IF(LENB($BM$36)<DP$9,IF($BM$36="","",0),TRUNC(RIGHTB($BM$36,DP$9)/POWER(10,DP$9-1),0)) | DQ29: =IF(LENB($BM$36)<DQ$9,IF($BM$36="","",0),TRUNC(RIGHTB($BM$36,DQ$9)/POWER(10,DQ$9-1),0)) | DR29: =IF(LENB($BM$36)<DR$9,IF($BM$36="","",0),TRUNC(RIGHTB($BM$36,DR$9)/POWER(10,DR$9-1),0)) | DS29: =IF(LENB($BM$36)<DS$9,IF($BM$36="","",0),TRUNC(RIGHTB($BM$36,DS$9)/POWER(10,DS$9-1),0)) | DT29: =IF(LENB($BM$36)<DT$9,IF($BM$36="","",0),TRUNC(RIGHTB($BM$36,DT$9)/POWER(10,DT$9-1),0)) | DU29: =IF(LENB($BM$36)<DU$9,IF($BM$36="","",0),TRUNC(RIGHTB($BM$36,DU$9)/POWER(10,DU$9-1),0)) | DV29: =IF(LENB($BM$36)<DV$9,IF($BM$36="","",0),TRUNC(RIGHTB($BM$36,DV$9)/POWER(10,DV$9-1),0)) | ... DZ29: =IF(LENB($BM$36)<DZ$9,IF($BM$36="","",0),TRUNC(RIGHTB($BM$36,DZ$9)/POWER(10,DZ$9-1),0))
I30: 個人番号 | DM30: 個人番号③ | DO30: =IF(LENB($BM$39)<DO$9,IF($BM$39="","",0),TRUNC(RIGHTB($BM$39,DO$9)/POWER(10,DO$9-1),0)) | DP30: =IF(LENB($BM$39)<DP$9,IF($BM$39="","",0),TRUNC(RIGHTB($BM$39,DP$9)/POWER(10,DP$9-1),0)) | DQ30: =IF(LENB($BM$39)<DQ$9,IF($BM$39="","",0),TRUNC(RIGHTB($BM$39,DQ$9)/POWER(10,DQ$9-1),0)) | DR30: =IF(LENB($BM$39)<DR$9,IF($BM$39="","",0),TRUNC(RIGHTB($BM$39,DR$9)/POWER(10,DR$9-1),0)) | DS30: =IF(LENB($BM$39)<DS$9,IF($BM$39="","",0),TRUNC(RIGHTB($BM$39,DS$9)/POWER(10,DS$9-1),0)) | DT30: =IF(LENB($BM$39)<DT$9,IF($BM$39="","",0),TRUNC(RIGHTB($BM$39,DT$9)/POWER(10,DT$9-1),0)) | DU30: =IF(LENB($BM$39)<DU$9,IF($BM$39="","",0),TRUNC(RIGHTB($BM$39,DU$9)/POWER(10,DU$9-1),0)) | DV30: =IF(LENB($BM$39)<DV$9,IF($BM$39="","",0),TRUNC(RIGHTB($BM$39,DV$9)/POWER(10,DV$9-1),0)) | ... DZ30: =IF(LENB($BM$39)<DZ$9,IF($BM$39="","",0),TRUNC(RIGHTB($BM$39,DZ$9)/POWER(10,DZ$9-1),0))
C31: 控除対象扶養親族等 | G31: １ | I31: (フリガナ) | AQ31: 区分 | AZ31: 16歳未満の扶養親族 | BD31: １ | BF31: (フリガナ) | CN31: 区分 | CW31: 5人目以降の控除対象 扶養親族の個人番号 | DM31: 個人番号④ | DO31: =IF(LENB($BM$42)<DO$9,IF($BM$42="","",0),TRUNC(RIGHTB($BM$42,DO$9)/POWER(10,DO$9-1),0)) | DP31: =IF(LENB($BM$42)<DP$9,IF($BM$42="","",0),TRUNC(RIGHTB($BM$42,DP$9)/POWER(10,DP$9-1),0)) | DQ31: =IF(LENB($BM$42)<DQ$9,IF($BM$42="","",0),TRUNC(RIGHTB($BM$42,DQ$9)/POWER(10,DQ$9-1),0)) | DR31: =IF(LENB($BM$42)<DR$9,IF($BM$42="","",0),TRUNC(RIGHTB($BM$42,DR$9)/POWER(10,DR$9-1),0)) | DS31: =IF(LENB($BM$42)<DS$9,IF($BM$42="","",0),TRUNC(RIGHTB($BM$42,DS$9)/POWER(10,DS$9-1),0)) | DT31: =IF(LENB($BM$42)<DT$9,IF($BM$42="","",0),TRUNC(RIGHTB($BM$42,DT$9)/POWER(10,DT$9-1),0)) | DU31: =IF(LENB($BM$42)<DU$9,IF($BM$42="","",0),TRUNC(RIGHTB($BM$42,DU$9)/POWER(10,DU$9-1),0)) | DV31: =IF(LENB($BM$42)<DV$9,IF($BM$42="","",0),TRUNC(RIGHTB($BM$42,DV$9)/POWER(10,DV$9-1),0)) | ... DZ31: =IF(LENB($BM$42)<DZ$9,IF($BM$42="","",0),TRUNC(RIGHTB($BM$42,DZ$9)/POWER(10,DZ$9-1),0))
I32: 氏 名 | BF32: 氏 名 | DM32: 選択 | DN32: =IF($DM$33="法人番号",DN34,IF(DN35="","",DN35)) | DO32: =IF($DM$33="法人番号",DO34,IF(DO35="","",DO35)) | DP32: =IF($DM$33="法人番号",DP34,IF(DP35="","",DP35)) | DQ32: =IF($DM$33="法人番号",DQ34,IF(DQ35="","",DQ35)) | DR32: =IF($DM$33="法人番号",DR34,IF(DR35="","",DR35)) | DS32: =IF($DM$33="法人番号",DS34,IF(DS35="","",DS35)) | DT32: =IF($DM$33="法人番号",DT34,IF(DT35="","",DT35)) | DU32: =IF($DM$33="法人番号",DU34,IF(DU35="","",DU35)) | ... DZ32: =IF($DM$33="法人番号",DZ34,IF(DZ35="","",DZ35))
I33: 個人番号 | BF33: 個人番号 | DM33: =IF(T47>999999999999,"法人番号",IF(T47="","","個人番号"))
G34: ２ | I34: (フリガナ) | AQ34: 区分 | BD34: ２ | BF34: (フリガナ) | CN34: 区分 | DM34: 法人番号 | DN34: =IF(LENB($T$47)<DN$9,IF($T$47="","",0),TRUNC(RIGHTB($T$47,DN$9)/POWER(10,DN$9-1),0)) | DO34: =IF(LENB($T$47)<DO$9,IF($T$47="","",0),TRUNC(RIGHTB($T$47,DO$9)/POWER(10,DO$9-1),0)) | DP34: =IF(LENB($T$47)<DP$9,IF($T$47="","",0),TRUNC(RIGHTB($T$47,DP$9)/POWER(10,DP$9-1),0)) | DQ34: =IF(LENB($T$47)<DQ$9,IF($T$47="","",0),TRUNC(RIGHTB($T$47,DQ$9)/POWER(10,DQ$9-1),0)) | DR34: =IF(LENB($T$47)<DR$9,IF($T$47="","",0),TRUNC(RIGHTB($T$47,DR$9)/POWER(10,DR$9-1),0)) | DS34: =IF(LENB($T$47)<DS$9,IF($T$47="","",0),TRUNC(RIGHTB($T$47,DS$9)/POWER(10,DS$9-1),0)) | DT34: =IF(LENB($T$47)<DT$9,IF($T$47="","",0),TRUNC(RIGHTB($T$47,DT$9)/POWER(10,DT$9-1),0)) | DU34: =IF(LENB($T$47)<DU$9,IF($T$47="","",0),TRUNC(RIGHTB($T$47,DU$9)/POWER(10,DU$9-1),0)) | ... DZ34: =IF(LENB($T$47)<DZ$9,IF($T$47="","",0),TRUNC(RIGHTB($T$47,DZ$9)/POWER(10,DZ$9-1),0))
I35: 氏 名 | BF35: 氏 名 | DM35: 個人番号 | DO35: =IF(LENB($T$47)<DO$9,IF($T$47="","",0),TRUNC(RIGHTB($T$47,DO$9)/POWER(10,DO$9-1),0)) | DP35: =IF(LENB($T$47)<DP$9,IF($T$47="","",0),TRUNC(RIGHTB($T$47,DP$9)/POWER(10,DP$9-1),0)) | DQ35: =IF(LENB($T$47)<DQ$9,IF($T$47="","",0),TRUNC(RIGHTB($T$47,DQ$9)/POWER(10,DQ$9-1),0)) | DR35: =IF(LENB($T$47)<DR$9,IF($T$47="","",0),TRUNC(RIGHTB($T$47,DR$9)/POWER(10,DR$9-1),0)) | DS35: =IF(LENB($T$47)<DS$9,IF($T$47="","",0),TRUNC(RIGHTB($T$47,DS$9)/POWER(10,DS$9-1),0)) | DT35: =IF(LENB($T$47)<DT$9,IF($T$47="","",0),TRUNC(RIGHTB($T$47,DT$9)/POWER(10,DT$9-1),0)) | DU35: =IF(LENB($T$47)<DU$9,IF($T$47="","",0),TRUNC(RIGHTB($T$47,DU$9)/POWER(10,DU$9-1),0)) | DV35: =IF(LENB($T$47)<DV$9,IF($T$47="","",0),TRUNC(RIGHTB($T$47,DV$9)/POWER(10,DV$9-1),0)) | ... DZ35: =IF(LENB($T$47)<DZ$9,IF($T$47="","",0),TRUNC(RIGHTB($T$47,DZ$9)/POWER(10,DZ$9-1),0))
I36: 個人番号 | BF36: 個人番号
G37: ３ | I37: (フリガナ) | AQ37: 区分 | BD37: ３ | BF37: (フリガナ) | CN37: 区分
I38: 氏 名 | BF38: 氏 名 | CW38: 5人目以降の16歳未満 の扶養親族の個人番号
I39: 個人番号 | BF39: 個人番号
G40: ４ | I40: (フリガナ) | AQ40: 区分 | BD40: ４ | BF40: (フリガナ) | CN40: 区分
I41: 氏 名 | BF41: 氏 名
I42: 個人番号 | BF42: 個人番号
C43: 未成年者 | H43: 外国人 | L43: 死亡退職 | P43: 災害者 | T43: 乙欄 | Y43: 本人が障害者 | AI43: 寡婦 | AN43: ひとり親 | AS43: 勤労学生 | BC43: 中途就・退職 | CB43: 受給者生年月日
Y44: 特別 | AD44: その他
...

Sheet 給与支払報告書
B2: 9 | D2: ※ | BC2: ※ 種別 | BV2: ※ 整理番号 | CV2: ※
B4: 給与支払報告書（個人別明細書） | D4: 支 払 を受け る 者 | J4: ※区分 | BQ4: （受給者番号） | CD4: =IF(入力用!$CB$2="","",入力用!$CB$2)
J5: 住 所 | N5: =IF(入力用!$M$2="","",入力用!$M$2) | BQ5: （個人番号） | CB5: =IF(入力用!$DO$10="","",入力用!$DO$10) | CE5: =IF(入力用!$DP$10="","",入力用!$DP$10) | CH5: =IF(入力用!$DQ$10="","",入力用!$DQ$10) | CK5: =IF(入力用!$DR$10="","",入力用!$DR$10) | CN5: =IF(入力用!$DS$10="","",入力用!$DS$10) | CQ5: =IF(入力用!$DT$10="","",入力用!$DT$10) | CT5: =IF(入力用!$DU$10="","",入力用!$DU$10) | CW5: =IF(入力用!$DV$10="","",入力用!$DV$10) | CZ5: =IF(入力用!$DW$10="","",入力用!$DW$10) | DC5: =IF(入力用!$DX$10="","",入力用!$DX$10) | DF5: =IF(入力用!$DY$10="","",入力用!$DY$10) | DI5: =IF(入力用!$DZ$10="","",入力用!$DZ$10)
BQ6: （役職名） | BZ6: =IF(入力用!$BY$4="","",入力用!$BY$4)
BQ7: 氏 名 | BV7: （フリガナ） | CF7: =IF(入力用!$CE$5="","",入力用!$CE$5)
BV8: =IF(入力用!$BU$6="","",入力用!$BU$6)
D9: 種 別 | Z9: 支 払 金 額 | AW9: 給与所得控除後の金額 (調 整 控 除 後) | BT9: 所得控除の額の合計額 | CP9: 源 泉 徴 収 税 額
D10: =IF(入力用!$C$8="","",入力用!$C$8) | Z10: =IF(入力用!$Y$8="","",入力用!$Y$8) | AT10: 円 | AW10: 円 | BT10: 円 | CP10: =IF(入力用!$CO$8="","",入力用!$CO$8) | DI10: 円
Z12: =IF(入力用!$Y$9="","",入力用!$Y$9) | AW12: =IF(入力用!$AV$9="","",入力用!$AV$9) | BT12: =IF(入力用!$BS$9="","",入力用!$BS$9) | CP12: =IF(入力用!$CO$9="","",入力用!$CO$9)
D13: (源泉)控除対象配偶者 | U13: 配偶者(特別) 控 除 の 額 | AI13: 控除対象扶養親族等の数 （配偶者を除く。） | CG13: 16歳未満 扶養親族 の 数 | CN13: 障害者の数 （本人を除く｡） | DE13: 非居住者 である 親族の数
D14: の有無等
P15: 老人 | AI15: 特 定 | AT15: 老 人 | BK15: そ の 他 | BV15: 特 親 | CN15: 特 別 | CY15: その他
D16: 有 | J16: 従有 | U16: 円 | AI16: 人 | AO16: 従人 | AT16: 内 | AZ16: 人 | BF16: 従人 | BK16: 人 | BQ16: 従人 | BV16: 人 | CB16: 従人 | CG16: 人 | CN16: 内 | CS16: 人 | CY16: 人 | DE16: 人
D17: =IF(入力用!$C$14="","",入力用!$C$14) | J17: =IF(入力用!$I$14="","",入力用!$I$14) | P17: =IF(入力用!$O$14="","",入力用!$O$14) | U17: =IF(入力用!$T$14="","",入力用!$T$14) | AI17: =IF(入力用!$AH$14="","",入力用!$AH$14) | AO17: =IF(入力用!$AN$14="","",入力用!$AN$14) | AT17: =IF(入力用!$AS$14="","",入力用!$AS$14) | AZ17: =IF(入力用!$AY$14="","",入力用!$AY$14) | BF17: =IF(入力用!$BE$14="","",入力用!$BE$14) | BK17: =IF(入力用!$BJ$14="","",入力用!$BJ$14) | BQ17: =IF(入力用!$BP$14="","",入力用!$BP$14) | BV17: =IF(入力用!$BU$14="","",入力用!$BU$14) | CB17: =IF(入力用!$CA$14="","",入力用!$CA$14) | CG17: =IF(入力用!$CF$14="","",入力用!$CF$14) | CN17: =IF(入力用!$CM$14="","",入力用!$CM$14) | CS17: =IF(入力用!$CR$14="","",入力用!$CR$14) | CY17: =IF(入力用!$CX$14="","",入力用!$CX$14) | DE17: =IF(入力用!$DD$14="","",入力用!$DD$14)
D18: 特定親族特別控除の額 | Z18: 社会保険料等の金額 | AW18: 生命保険料の控除額 | BT18: 地震保険料の控除額 | CP18: 住宅借入金等特別控除の額
X19: 円 | Z19: =IF(入力用!$Y$16="","",入力用!$Y$16) | AU19: 円 | BR19: 円 | BT19: =IF(入力用!$C$16="","",入力用!$C$16) | CN19: 円 | CP19: =IF(入力用!$C$16="","",入力用!$C$16) | DJ19: 円
D21: =IF(入力用!$C$17="","",入力用!$C$17) | Z21: =IF(入力用!$Y$17="","",入力用!$Y$17) | AW21: =IF(入力用!$AV$17="","",入力用!$AV$17) | BT21: =IF(入力用!$BS$17="","",入力用!$BS$17) | CP21: =IF(入力用!$CO$17="","",入力用!$CO$17)
D22: （摘要） | L22: =IF(入力用!$K$18="","",入力用!$K$18)
D23: =IF(入力用!$C$19="","",入力用!$C$19)
D24: 生命保険 料の金額 の内訳 | K24: 新生命 保険料 の金額 | S24: 円 | AF24: 旧生命 保険料 の金額 | AN24: 円 | BA24: 介護医療 保険料 の金額 | BI24: 円 | BV24: 新個人年 金保険料 の金額 | CD24: 円 | CQ24: 旧個人年 金保険料 の金額 | CY24: 円
S25: =IF(入力用!$R$21="","",入力用!$R$21) | AN25: =IF(入力用!$AM$21="","",入力用!$AM$21) | BI25: =IF(入力用!$BH$21="","",入力用!$BH$21) | CD25: =IF(入力用!$CC$21="","",入力用!$CC$21) | CY25: =IF(入力用!$CX$21="","",入力用!$CX$21)
D26: 住宅借入 金等特別 控除の額 の内訳 | K26: 住宅借入金 等特別控除 適用数 | AF26: 居住開始年月 日（１回目） | AO26: 年 | AV26: 月 | BC26: 日 | BJ26: 住宅借入金等 特別控除区分 （1回目） | BU26: =IF(入力用!$BT$22="","",入力用!$BT$22) | CD26: 住宅借入金等 年 末 残 高 （1回目） | CP26: 円
S27: =IF(入力用!$R$23="","",入力用!$R$23) | AO27: =IF(入力用!$AN$23="","",入力用!$AN$23) | AV27: =IF(入力用!$AU$23="","",入力用!$AU$23) | BC27: =IF(入力用!$BB$23="","",入力用!$BB$23) | CP27: =IF(入力用!$CO$23="","",入力用!$CO$23)
K28: 住宅借入金 等特別控除 可能額 | S28: 円 | AF28: 居住開始年月 日（２回目） | AO28: 年 | AV28: 月 | BC28: 日 | BJ28: 住宅借入金等 特別控除区分 （2回目） | BU28: =IF(入力用!$BT$24="","",入力用!$BT$24) | CD28: 住宅借入金等 年 末 残 高 （2回目） | CP28: 円
S29: =IF(入力用!$R$25="","",入力用!$R$25) | AO29: =IF(入力用!$AN$25="","",入力用!$AN$25) | AV29: =IF(入力用!$AU$25="","",入力用!$AU$25) | BC29: =IF(入力用!$BB$25="","",入力用!$BB$25) | CP29: =IF(入力用!$CO$25="","",入力用!$CO$25)
D30: (源泉･特別) 控除対象 配偶者 | J30: (フリガナ) | Q30: =IF(入力用!$P$26="","",入力用!$P$26) | AR30: 区分 | AU30: =IF(入力用!$AT$26="","",入力用!$AT$26) | BA30: 配偶者の 合計所得 | BI30: 円 | BV30: 国民年金保険 料等の金額 | CF30: 円 | CQ30: 旧長期損害 保険料の金額 | DA30: 円
BI31: =IF(入力用!$BH$27="","",入力用!$BH$27) | CF31: =IF(入力用!$CE$27="","",入力用!$CE$27) | DA31: =IF(入力用!$CZ$27="","",入力用!$CZ$27)
J32: 氏 名 | Q32: =IF(入力用!$P$28="","",入力用!$P$28)
BV33: 基礎控除の額 | CF33: 円 | CQ33: 所得金額 調整控除額 | DA33: 円
J34: 個人番号 | Q34: =IF(入力用!$DO$23="","",入力用!$DO$23) | T34: =IF(入力用!$DP$23="","",入力用!$DP$23) | W34: =IF(入力用!$DQ$23="","",入力用!$DQ$23) | Z34: =IF(入力用!$DR$23="","",入力用!$DR$23) | AC34: =IF(入力用!$DS$23="","",入力用!$DS$23) | AF34: =IF(入力用!$DT$23="","",入力用!$DT$23) | AI34: =IF(入力用!$DU$23="","",入力用!$DU$23) | AL34: =IF(入力用!$DV$23="","",入力用!$DV$23) | AO34: =IF(入力用!$DW$23="","",入力用!$DW$23) | AR34: =IF(入力用!$DX$23="","",入力用!$DX$23) | AU34: =IF(入力用!$DY$23="","",入力用!$DY$23) | AX34: =IF(入力用!$DZ$23="","",入力用!$DZ$23) | CF34: =IF(入力用!$CE$30="","",入力用!$CE$30) | DA34: =IF(入力用!$CZ$30="","",入力用!$CZ$30)
D35: 控除対象扶養親族等 | H35: １ | J35: (フリガナ) | Q35: =IF(入力用!$P$31="","",入力用!$P$31) | AR35: 区分 | AU35: =IF(入力用!$AT$31="","",入力用!$AT$31) | BA35: 16歳未満の扶養親族 | BE35: １ | BG35: (フリガナ) | BN35: =IF(入力用!$BM$31="","",入力用!$BM$31) | CO35: 区分 | CR35: =IF(入力用!$CQ$31="","",入力用!$CQ$31) | CX35: 5人目以降の控除対象 扶養親族の個人番号
J36: 氏 名 | Q36: =IF(入力用!$P$32="","",入力用!$P$32) | BG36: 氏 名 | BN36: =IF(入力用!$BM$32="","",入力用!$BM$32) | CX36: =IF(入力用!$CW$32="","",入力用!$CW$32)
J37: 個人番号 | Q37: =IF(入力用!$DO$24="","",入力用!$DO$24) | T37: =IF(入力用!$DP$24="","",入力用!$DP$24) | W37: =IF(入力用!$DQ$24="","",入力用!$DQ$24) | Z37: =IF(入力用!$DR$24="","",入力用!$DR$24) | AC37: =IF(入力用!$DS$24="","",入力用!$DS$24) | AF37: =IF(入力用!$DT$24="","",入力用!$DT$24) | AI37: =IF(入力用!$DU$24="","",入力用!$DU$24) | AL37: =IF(入力用!$DV$24="","",入力用!$DV$24) | AO37: =IF(入力用!$DW$24="","",入力用!$DW$24) | AR37: =IF(入力用!$DX$24="","",入力用!$DX$24) | AU37: =IF(入力用!$DY$24="","",入力用!$DY$24) | AX37: =IF(入力用!$DZ$24="","",入力用!$DZ$24) | BG37: 個人番号 | BN37: =IF(入力用!$DO$28="","",入力用!$DO$28) | BQ37: =IF(入力用!$DP$28="","",入力用!$DP$28) | BT37: =IF(入力用!$DQ$28="","",入力用!$DQ$28) | BW37: =IF(入力用!$DR$28="","",入力用!$DR$28) | BZ37: =IF(入力用!$DS$28="","",入力用!$DS$28) | CC37: =IF(入力用!$DT$28="","",入力用!$DT$28) | CF37: =IF(入力用!$DU$28="","",入力用!$DU$28) | CI37: =IF(入力用!$DV$28="","",入力用!$DV$28) | CL37: =IF(入力用!$DW$28="","",入力用!$DW$28) | CO37: =IF(入力用!$DX$28="","",入力用!$DX$28) | CR37: =IF(入力用!$DY$28="","",入力用!$DY$28) | CU37: =IF(入力用!$DZ$28="","",入力用!$DZ$28)
H38: ２ | J38: (フリガナ) | Q38: =IF(入力用!$P$34="","",入力用!$P$34) | AR38: 区分 | AU38: =IF(入力用!$AT$34="","",入力用!$AT$34) | BE38: ２ | BG38: (フリガナ) | BN38: =IF(入力用!$BM$34="","",入力用!$BM$34) | CO38: 区分 | CR38: =IF(入力用!$CQ$34="","",入力用!$CQ$34)
J39: 氏 名 | Q39: =IF(入力用!$P$35="","",入力用!$P$35) | BG39: 氏 名 | BN39: =IF(入力用!$BM$35="","",入力用!$BM$35)
J40: 個人番号 | Q40: =IF(入力用!$DO$25="","",入力用!$DO$25) | T40: =IF(入力用!$DP$25="","",入力用!$DP$25) | W40: =IF(入力用!$DQ$25="","",入力用!$DQ$25) | Z40: =IF(入力用!$DR$25="","",入力用!$DR$25) | AC40: =IF(入力用!$DS$25="","",入力用!$DS$25) | AF40: =IF(入力用!$DT$25="","",入力用!$DT$25) | AI40: =IF(入力用!$DU$25="","",入力用!$DU$25) | AL40: =IF(入力用!$DV$25="","",入力用!$DV$25) | AO40: =IF(入力用!$DW$25="","",入力用!$DW$25) | AR40: =IF(入力用!$DX$25="","",入力用!$DX$25) | AU40: =IF(入力用!$DY$25="","",入力用!$DY$25) | AX40: =IF(入力用!$DZ$25="","",入力用!$DZ$25) | BG40: 個人番号 | BN40: =IF(入力用!$DO$29="","",入力用!$DO$29) | BQ40: =IF(入力用!$DP$29="","",入力用!$DP$29) | BT40: =IF(入力用!$DQ$29="","",入力用!$DQ$29) | BW40: =IF(入力用!$DR$29="","",入力用!$DR$29) | BZ40: =IF(入力用!$DS$29="","",入力用!$DS$29) | CC40: =IF(入力用!$DT$29="","",入力用!$DT$29) | CF40: =IF(入力用!$DU$29="","",入力用!$DU$29) | CI40: =IF(入力用!$DV$29="","",入力用!$DV$29) | CL40: =IF(入力用!$DW$29="","",入力用!$DW$29) | CO40: =IF(入力用!$DX$29="","",入力用!$DX$29) | CR40: =IF(入力用!$DY$29="","",入力用!$DY$29) | CU40: =IF(入力用!$DZ$29="","",入力用!$DZ$29)
H41: ３ | J41: (フリガナ) | Q41: =IF(入力用!$P$37="","",入力用!$P$37) | AR41: 区分 | AU41: =IF(入力用!$AT$37="","",入力用!$AT$37) | BE41: ３ | BG41: (フリガナ) | BN41: =IF(入力用!$BM$37="","",入力用!$BM$37) | CO41: 区分 | CR41: =IF(入力用!$CQ$37="","",入力用!$CQ$37)
J42: 氏 名 | Q42: =IF(入力用!$P$38="","",入力用!$P$38) | BG42: 氏 名 | BN42: =IF(入力用!$BM$38="","",入力用!$BM$38) | CX42: 5人目以降の16歳未満 の扶養親族の個人番号
J43: 個人番号 | Q43: =IF(入力用!$DO$26="","",入力用!$DO$26) | T43: =IF(入力用!$DP$26="","",入力用!$DP$26) | W43: =IF(入力用!$DQ$26="","",入力用!$DQ$26) | Z43: =IF(入力用!$DR$26="","",入力用!$DR$26) | AC43: =IF(入力用!$DS$26="","",入力用!$DS$26) | AF43: =IF(入力用!$DT$26="","",入力用!$DT$26) | AI43: =IF(入力用!$DU$26="","",入力用!$DU$26) | AL43: =IF(入力用!$DV$26="","",入力用!$DV$26) | AO43: =IF(入力用!$DW$26="","",入力用!$DW$26) | AR43: =IF(入力用!$DX$26="","",入力用!$DX$26) | AU43: =IF(入力用!$DY$26="","",入力用!$DY$26) | AX43: =IF(入力用!$DZ$26="","",入力用!$DZ$26) | BG43: 個人番号 | BN43: =IF(入力用!$DO$30="","",入力用!$DO$30) | BQ43: =IF(入力用!$DP$30="","",入力用!$DP$30) | BT43: =IF(入力用!$DQ$30="","",入力用!$DQ$30) | BW43: =IF(入力用!$DR$30="","",入力用!$DR$30) | BZ43: =IF(入力用!$DS$30="","",入力用!$DS$30) | CC43: =IF(入力用!$DT$30="","",入力用!$DT$30) | CF43: =IF(入力用!$DU$30="","",入力用!$DU$30) | CI43: =IF(入力用!$DV$30="","",入力用!$DV$30) | CL43: =IF(入力用!$DW$30="","",入力用!$DW$30) | CO43: =IF(入力用!$DX$30="","",入力用!$DX$30) | CR43: =IF(入力用!$DY$30="","",入力用!$DY$30) | CU43: =IF(入力用!$DZ$30="","",入力用!$DZ$30) | CX43: =IF(入力用!$CW$39="","",入力用!$CW$39)
H44: ４ | J44: (フリガナ) | Q44: =IF(入力用!$P$40="","",入力用!$P$40) | AR44: 区分 | AU44: =IF(入力用!$AT$40="","",入力用!$AT$40) | BE44: ４ | BG44: (フリガナ) | BN44: =IF(入力用!$BM$40="","",入力用!$BM$40) | CO44: 区分 | CR44: =IF(入力用!$CQ$40="","",入力用!$CQ$40)
...

Sheet 源泉徴収票
D2: 令和８年分 給 与 所 得 の 源 泉 徴 収 票
D4: 支 払 を受け る 者 | J4: 住所又は居所 | N4: =IF(入力用!$M$2="","",入力用!$M$2) | BQ4: （受給者番号） | CD4: =IF(入力用!$CB$2="","",入力用!$CB$2)
BQ6: （役職名） | BZ6: =IF(入力用!$BY$4="","",入力用!$BY$4)
BQ7: 氏 名 | BV7: （フリガナ） | CF7: =IF(入力用!$CE$5="","",入力用!$CE$5)
BV8: =IF(入力用!$BU$6="","",入力用!$BU$6)
D9: 種 別 | Z9: 支 払 金 額 | AW9: 給与所得控除後の金額 (調 整 控 除 後) | BT9: 所得控除の額の合計額 | CP9: 源 泉 徴 収 税 額
D10: =IF(入力用!$C$8="","",入力用!$C$8) | Z10: =IF(入力用!$Y$8="","",入力用!$Y$8) | AT10: 円 | AW10: 円 | BT10: 円 | CP10: =IF(入力用!$CO$8="","",入力用!$CO$8) | DI10: 円
Z12: =IF(入力用!$Y$9="","",入力用!$Y$9) | AT12: =IF(入力用!$DZ$11="","",入力用!$DZ$11) | AW12: =IF(入力用!$AV$9="","",入力用!$AV$9) | BT12: =IF(入力用!$BS$9="","",入力用!$BS$9) | CP12: =IF(入力用!$CO$9="","",入力用!$CO$9)
D13: (源泉)控除対象配偶者 | U13: 配偶者(特別) 控 除 の 額 | AI13: 控除対象扶養親族等の数 （配偶者を除く。） | CG13: 16歳未満 扶養親族 の 数 | CN13: 障害者の数 （本人を除く｡） | DE13: 非居住者 である 親族の数
D14: の有無等
P15: 老人 | AI15: 特 定 | AT15: 老 人 | BK15: そ の 他 | BV15: 特 親 | CN15: 特 別 | CY15: その他
D16: 有 | J16: 従有 | U16: 円 | AI16: 人 | AO16: 従人 | AT16: 内 | AZ16: 人 | BF16: 従人 | BK16: 人 | BQ16: 従人 | BV16: 人 | CB16: 従人 | CG16: 人 | CN16: 内 | CS16: 人 | CY16: 人 | DE16: 人
D17: =IF(入力用!$C$14="","",入力用!$C$14) | J17: =IF(入力用!$I$14="","",入力用!$I$14) | P17: =IF(入力用!$O$14="","",入力用!$O$14) | U17: =IF(入力用!$T$14="","",入力用!$T$14) | AI17: =IF(入力用!$AH$14="","",入力用!$AH$14) | AO17: =IF(入力用!$AN$14="","",入力用!$AN$14) | AT17: =IF(入力用!$AS$14="","",入力用!$AS$14) | AZ17: =IF(入力用!$AY$14="","",入力用!$AY$14) | BF17: =IF(入力用!$BE$14="","",入力用!$BE$14) | BK17: =IF(入力用!$BJ$14="","",入力用!$BJ$14) | BQ17: =IF(入力用!$BP$14="","",入力用!$BP$14) | BV17: =IF(入力用!$BU$14="","",入力用!$BU$14) | CB17: =IF(入力用!$CA$14="","",入力用!$CA$14) | CG17: =IF(入力用!$CF$14="","",入力用!$CF$14) | CN17: =IF(入力用!$CM$14="","",入力用!$CM$14) | CS17: =IF(入力用!$CR$14="","",入力用!$CR$14) | CY17: =IF(入力用!$CX$14="","",入力用!$CX$14) | DE17: =IF(入力用!$DD$14="","",入力用!$DD$14)
D18: 特定親族特別控除の額 | Z18: 社会保険料等の金額 | AW18: 生命保険料の控除額 | BT18: 地震保険料の控除額 | CP18: 住宅借入金等特別控除の額
D19: 円 | Z19: =IF(入力用!$Y$16="","",入力用!$Y$16) | AU19: 円 | AW19: 円 | BT19: 円 | CP19: 円
D21: =IF(入力用!$C$17="","",入力用!$C$17) | Z21: =IF(入力用!$Y$17="","",入力用!$Y$17) | AW21: =IF(入力用!$AV$17="","",入力用!$AV$17) | BT21: =IF(入力用!$BS$17="","",入力用!$BS$17) | CP21: =IF(入力用!$CO$17="","",入力用!$CO$17)
D22: （摘要） | L22: =IF(入力用!$K$18="","",入力用!$K$18)
D23: =IF(入力用!$C$19="","",入力用!$C$19)
D24: 生命保険 料の金額 の内訳 | K24: 新生命 保険料 の金額 | S24: 円 | AF24: 旧生命 保険料 の金額 | AN24: 円 | BA24: 介護医療 保険料 の金額 | BI24: 円 | BV24: 新個人年 金保険料 の金額 | CD24: 円 | CQ24: 旧個人年 金保険料 の金額 | CY24: 円
S25: =IF(入力用!$R$21="","",入力用!$R$21) | AN25: =IF(入力用!$AM$21="","",入力用!$AM$21) | BI25: =IF(入力用!$BH$21="","",入力用!$BH$21) | CD25: =IF(入力用!$CC$21="","",入力用!$CC$21) | CY25: =IF(入力用!$CX$21="","",入力用!$CX$21)
D26: 住宅借入 金等特別 控除の額 の内訳 | K26: 住宅借入金 等特別控除 適用数 | AF26: 居住開始年月 日（１回目） | AO26: 年 | AV26: 月 | BC26: 日 | BJ26: 住宅借入金等 特別控除区分 （1回目） | BU26: =IF(入力用!$BT$22="","",入力用!$BT$22) | CD26: 住宅借入金等 年 末 残 高 （1回目） | CP26: 円
S27: =IF(入力用!$R$23="","",入力用!$R$23) | AO27: =IF(入力用!$AN$23="","",入力用!$AN$23) | AV27: =IF(入力用!$AU$23="","",入力用!$AU$23) | BC27: =IF(入力用!$BB$23="","",入力用!$BB$23) | CP27: =IF(入力用!$CO$23="","",入力用!$CO$23)
K28: 住宅借入金 等特別控除 可能額 | S28: 円 | AF28: 居住開始年月 日（２回目） | AO28: 年 | AV28: 月 | BC28: 日 | BJ28: 住宅借入金等 特別控除区分 （2回目） | BU28: =IF(入力用!$BT$24="","",入力用!$BT$24) | CD28: 住宅借入金等 年 末 残 高 （2回目） | CP28: 円
S29: =IF(入力用!$R$25="","",入力用!$R$25) | AO29: =IF(入力用!$AN$25="","",入力用!$AN$25) | AV29: =IF(入力用!$AU$25="","",入力用!$AU$25) | BC29: =IF(入力用!$BB$25="","",入力用!$BB$25) | CP29: =IF(入力用!$CO$25="","",入力用!$CO$25)
D30: (源泉･特別) 控除対象 配偶者 | J30: (フリガナ) | Q30: =IF(入力用!$P$26="","",入力用!$P$26) | AR30: 区分 | AU30: =IF(入力用!$AT$26="","",入力用!$AT$26) | BA30: 配偶者の 合計所得 | BI30: 円 | BV30: 国民年金保険 料等の金額 | CF30: 円 | CQ30: 旧長期損害 保険料の金額 | DA30: 円
BI31: =IF(入力用!$BH$27="","",入力用!$BH$27) | CF31: =IF(入力用!$CE$27="","",入力用!$CE$27) | DA31: =IF(入力用!$CZ$27="","",入力用!$CZ$27)
J32: 氏 名 | Q32: =IF(入力用!$P$28="","",入力用!$P$28)
BV33: 基礎控除の額 | CF33: 円 | CQ33: 所得金額 調整控除額 | DA33: 円
CF34: =IF(入力用!$CE$30="","",入力用!$CE$30) | DA34: =IF(入力用!$CZ$30="","",入力用!$CZ$30)
D35: 控除対象扶養親族等 | H35: １ | J35: (フリガナ) | Q35: =IF(入力用!$P$31="","",入力用!$P$31) | AR35: 区分 | AU35: =IF(入力用!$AT$31="","",入力用!$AT$31) | BA35: 16歳未満の扶養親族 | BE35: １ | BG35: (フリガナ) | BN35: =IF(入力用!$BM$31="","",入力用!$BM$31) | CO35: 区分 | CR35: =IF(入力用!$CQ$31="","",入力用!$CQ$31)
J36: 氏 名 | Q36: =IF(入力用!$P$32="","",入力用!$P$32) | BG36: 氏 名 | BN36: =IF(入力用!$BM$32="","",入力用!$BM$32)
H38: ２ | J38: (フリガナ) | Q38: =IF(入力用!$P$34="","",入力用!$P$34) | AR38: 区分 | AU38: =IF(入力用!$AT$34="","",入力用!$AT$34) | BE38: ２ | BG38: (フリガナ) | BN38: =IF(入力用!$BM$34="","",入力用!$BM$34) | CO38: 区分 | CR38: =IF(入力用!$CQ$34="","",入力用!$CQ$34)
J39: 氏 名 | Q39: =IF(入力用!$P$35="","",入力用!$P$35) | BG39: 氏 名 | BN39: =IF(入力用!$BM$35="","",入力用!$BM$35)
H41: ３ | J41: (フリガナ) | Q41: =IF(入力用!$P$37="","",入力用!$P$37) | AR41: 区分 | AU41: =IF(入力用!$AT$37="","",入力用!$AT$37) | BE41: ３ | BG41: (フリガナ) | BN41: =IF(入力用!$BM$37="","",入力用!$BM$37) | CO41: 区分 | CR41: =IF(入力用!$CQ$37="","",入力用!$CQ$37)
J42: 氏 名 | Q42: =IF(入力用!$P$38="","",入力用!$P$38) | BG42: 氏 名 | BN42: =IF(入力用!$BM$38="","",入力用!$BM$38)
H44: ４ | J44: (フリガナ) | Q44: =IF(入力用!$P$40="","",入力用!$P$40) | AR44: 区分 | AU44: =IF(入力用!$AT$40="","",入力用!$AT$40) | BE44: ４ | BG44: (フリガナ) | BN44: =IF(入力用!$BM$40="","",入力用!$BM$40) | CO44: 区分 | CR44: =IF(入力用!$CQ$40="","",入力用!$CQ$40)
J45: 氏 名 | Q45: =IF(入力用!$P$41="","",入力用!$P$41) | BG45: 氏 名 | BN45: =IF(入力用!$BM$41="","",入力用!$BM$41)
B47: （受給者交付用） | D47: 未成年者 | I47: 外国人 | M47: 死亡退職 | Q47: 災害者 | U47: 乙欄 | Z47: 本人が障害者 | AJ47: 寡婦 | AO47: ひとり親 | AT47: 勤労学生 | BD47: 中途就・退職 | CC47: 受給者生年月日
Z48: 特別 | AE48: その他
BD49: 就職 | BI49: 退職 | BN49: 年 | BS49: 月 | BX49: 日 | CC49: 元 号 | CW49: 年 | DB49: 月 | DG49: 日
...

Sheet 入力用シート削除方法
B2: 参考
B3: 次の①～④の処理をしていただくことで支払者以外の入力内容をまとめて消すことができます。
C5: ① | D5: ツールバー左下にある「名前ボックス」の「▼」を押して「支払者以外」を選択してください。
C23: ② | D23: 支払者以外のセルがまとめて選択されますので、セルが選択された状態のまま「Delete」キーを押してください。
C24: ③ | D24: 以下のメッセージがでますので、「OK」を押してください。
C36: ④ | D36: セルが選択された状態のままもう一度「Delete」キーを押すことで、入力内容をまとめて消すことができます。 途中で他のセルを選択してしまった場合は①からやりなおしてください。
